BEGIN:VCALENDAR
VERSION:2.0
PRODID:-//Superfounders - ECPv5.2.0//NONSGML v1.0//EN
CALSCALE:GREGORIAN
METHOD:PUBLISH
X-WR-CALNAME:Superfounders
X-ORIGINAL-URL:http://superfounders.org
X-WR-CALDESC:Events for Superfounders
BEGIN:VTIMEZONE
TZID:UTC
BEGIN:STANDARD
TZOFFSETFROM:+0000
TZOFFSETTO:+0000
TZNAME:UTC
DTSTART:20170101T000000
END:STANDARD
END:VTIMEZONE
BEGIN:VEVENT
DTSTART;VALUE=DATE:20171013
DTEND;VALUE=DATE:20171014
DTSTAMP:20260422T022224
CREATED:20170406T155651Z
LAST-MODIFIED:20171009T085116Z
UID:24287-1507852800-1507939199@superfounders.org
SUMMARY:Zagreb Crowdfunding Convention 2017
DESCRIPTION:4How did the regional crowdfunders reach global audiences?\nHow can SME’s profit using alternative crowdfunding models?\nWhich are the hottest upcoming crowdfunding campaigns?\nWhy do we lack a crowdfunding platform with a regional impact?
URL:http://superfounders.org/events/zagreb-crowdfunding-convention/
LOCATION:Hub 385\, Zagreb\, Croatia (Local Name: Hrvatska)
CATEGORIES:Conference
ATTACH;FMTTYPE=image/png:http://superfounders.org/wp-content/uploads/2017/04/download-10.png
END:VEVENT
END:VCALENDAR