BEGIN:VCALENDAR
VERSION:2.0
PRODID:-//Superfounders - ECPv5.2.0//NONSGML v1.0//EN
CALSCALE:GREGORIAN
METHOD:PUBLISH
X-WR-CALNAME:Superfounders
X-ORIGINAL-URL:http://superfounders.org
X-WR-CALDESC:Events for Superfounders
BEGIN:VTIMEZONE
TZID:UTC
BEGIN:STANDARD
TZOFFSETFROM:+0000
TZOFFSETTO:+0000
TZNAME:UTC
DTSTART:20170101T000000
END:STANDARD
END:VTIMEZONE
BEGIN:VEVENT
DTSTART;VALUE=DATE:20171205
DTEND;VALUE=DATE:20171207
DTSTAMP:20260422T000413
CREATED:20161028T105648Z
LAST-MODIFIED:20171010T080821Z
UID:22859-1512432000-1512604799@superfounders.org
SUMMARY:Zagreb Connect
DESCRIPTION:Zagreb Connect is a start up conference where startups have an opportunity to present their ideas to potential investors\, investment institutions and business angels. \nFrom the investors’ perspective\, Zagreb Connect is a unique opportunity to access high-quality yet undiscovered emerging companies who are looking for financial and non-financial support. \nThis year\, in cooperation with the Croatian Business Angels Network CRANE\, Zagreb Connect will provide an overview of the latest trends on the domestic and foreign start up scene\, and the speakers will include entrepreneurs and business angels as well as numerous experts from the high-tech industry.
URL:http://superfounders.org/events/zagreb-connect/
LOCATION:Technology Park Zagreb\, Av. Dubrovnik 15\, Zagreb Fair\, Paviljon 12\, 1st floor\,\, Zagreb\, Croatia (Local Name: Hrvatska)
CATEGORIES:Conference
ATTACH;FMTTYPE=image/png:http://superfounders.org/wp-content/uploads/2016/10/zagrebconnect.png
END:VEVENT
END:VCALENDAR