BEGIN:VCALENDAR
VERSION:2.0
PRODID:-//Superfounders - ECPv5.2.0//NONSGML v1.0//EN
CALSCALE:GREGORIAN
METHOD:PUBLISH
X-WR-CALNAME:Superfounders
X-ORIGINAL-URL:http://superfounders.org
X-WR-CALDESC:Events for Superfounders
BEGIN:VTIMEZONE
TZID:UTC
BEGIN:STANDARD
TZOFFSETFROM:+0000
TZOFFSETTO:+0000
TZNAME:UTC
DTSTART:20180101T000000
END:STANDARD
END:VTIMEZONE
BEGIN:VEVENT
DTSTART;VALUE=DATE:20180614
DTEND;VALUE=DATE:20180617
DTSTAMP:20260421T210020
CREATED:20170618T150322Z
LAST-MODIFIED:20180208T085321Z
UID:25230-1528934400-1529193599@superfounders.org
SUMMARY:WordCamp Europe Belgrade
DESCRIPTION:The capital of Serbia\, Belgrade\, is an old city in the centre of the Balkans with fantastic food\, culture\, nightlife\, and most importantly – an incredible WordPress community. \nEvery year a different city and country host WordCamp Europe. Our European journey started in Leiden\, Netherlands and back then we couldn’t imagine the impact this event would have in the European WordPress community. We were in Sofia\, Bulgaria in the second year and the year after in Seville\, Spain. Some of you were with us last year in Vienna\, and a lot more this year in Paris.
URL:http://superfounders.org/events/wordcamp-europe-belgrade/
CATEGORIES:Conference
ATTACH;FMTTYPE=image/jpeg:http://superfounders.org/wp-content/uploads/2017/06/wceu2018.jpg
END:VEVENT
END:VCALENDAR