BEGIN:VCALENDAR
VERSION:2.0
PRODID:-//Superfounders - ECPv5.2.0//NONSGML v1.0//EN
CALSCALE:GREGORIAN
METHOD:PUBLISH
X-WR-CALNAME:Superfounders
X-ORIGINAL-URL:http://superfounders.org
X-WR-CALDESC:Events for Superfounders
BEGIN:VTIMEZONE
TZID:UTC
BEGIN:STANDARD
TZOFFSETFROM:+0000
TZOFFSETTO:+0000
TZNAME:UTC
DTSTART:20170101T000000
END:STANDARD
END:VTIMEZONE
BEGIN:VEVENT
DTSTART;VALUE=DATE:20170525
DTEND;VALUE=DATE:20170527
DTSTAMP:20260421T170950
CREATED:20170511T080745Z
LAST-MODIFIED:20170511T080822Z
UID:24688-1495670400-1495843199@superfounders.org
SUMMARY:Woman.comm conference Zagreb 2017
DESCRIPTION:Intention is to create an annual business event that will bring together a large number of women from the advertising and communications industry in the Adriatic region. Providing lecturers from the region and the world who will share their knowledge with participants\, informing them and motivating them to even greater achievements in the most exciting creative profession in the world.
URL:http://superfounders.org/events/woman-comm-conference-zagreb-2017/
LOCATION:Hotel Westin\, Zagreb
CATEGORIES:Conference
ATTACH;FMTTYPE=image/jpeg:http://superfounders.org/wp-content/uploads/2017/05/automatska-skica55-740x453.jpg
END:VEVENT
END:VCALENDAR