BEGIN:VCALENDAR
VERSION:2.0
PRODID:-//Superfounders - ECPv5.2.0//NONSGML v1.0//EN
CALSCALE:GREGORIAN
METHOD:PUBLISH
X-WR-CALNAME:Superfounders
X-ORIGINAL-URL:http://superfounders.org
X-WR-CALDESC:Events for Superfounders
BEGIN:VTIMEZONE
TZID:UTC
BEGIN:STANDARD
TZOFFSETFROM:+0000
TZOFFSETTO:+0000
TZNAME:UTC
DTSTART:20170101T000000
END:STANDARD
END:VTIMEZONE
BEGIN:VEVENT
DTSTART;VALUE=DATE:20170225
DTEND;VALUE=DATE:20170429
DTSTAMP:20260421T132848
CREATED:20170407T094048Z
LAST-MODIFIED:20170415T163831Z
UID:24304-1487980800-1493423999@superfounders.org
SUMMARY:WinDays17 Porec
DESCRIPTION:Microsoft WinDays17 will be held 25 to 28 April 2017 in Valamar Isabella Island Resort on the island of Sveti Nikola in Porec\, known as WinDays island. \nPorec will be the second consecutive year to host WinDays conference! 17th edition will be held in Valamar Isabella Island Resort on the island of St. Nicholas\, which is in the premiere edition of the Porec last year received a “nickname” WinDays island. The conference will take place from Tuesday\, April 25\, through Friday\, April 28\, 2017\, and the theme is traditionally divided into two parts – WinDays17 Business and Technology WinDays17. \nWinDays17 Business will be held on Tuesday and Wednesday\, 25 and 26 April 2017 and a thematic focus will be on exploiting the potential of the Croatian economy. Key topics of the conference will be the culture of success\, intelligence\, skills and smart specialization\, and will be presented and examples of successful implementation of the smart specialization in Croatian companies. Conference facilities and quality issues have an increasing impact on the business environment in Croatia and will again motivate participants and direct them towards business excellence. \nWinDays17 Technology as in previous years\, a host of new features related to Microsoft technologies\, as well as solutions based on them. At the conference we will present concrete ways and technology solutions that enable customers to optimize business processes\, customizing products and solutions\, active user involvement and empowerment of individuals and employees to achieve more. The primary focus of the conference will be on innovative solutions based on a cloud\, with a particular focus on digital solutions and solutions based on open source\, but also real-life examples through case studies\, as well as issues of security. WinDays17 Technology is scheduled from Wednesday to Friday\, and 26 to 28 April 2017.
URL:http://superfounders.org/events/windays-2017-porec/
LOCATION:Valamar Isabella Island Resortu\, Porec\, Croatia (Local Name: Hrvatska)
CATEGORIES:Conference
ATTACH;FMTTYPE=image/jpeg:http://superfounders.org/wp-content/uploads/2017/04/windays.jpg
END:VEVENT
END:VCALENDAR