BEGIN:VCALENDAR
VERSION:2.0
PRODID:-//Superfounders - ECPv5.2.0//NONSGML v1.0//EN
CALSCALE:GREGORIAN
METHOD:PUBLISH
X-WR-CALNAME:Superfounders
X-ORIGINAL-URL:http://superfounders.org
X-WR-CALDESC:Events for Superfounders
BEGIN:VTIMEZONE
TZID:UTC
BEGIN:STANDARD
TZOFFSETFROM:+0000
TZOFFSETTO:+0000
TZNAME:UTC
DTSTART:20170101T000000
END:STANDARD
END:VTIMEZONE
BEGIN:VEVENT
DTSTART;VALUE=DATE:20170513
DTEND;VALUE=DATE:20170514
DTSTAMP:20260421T171747
CREATED:20170322T104957Z
LAST-MODIFIED:20170322T104957Z
UID:24158-1494633600-1494719999@superfounders.org
SUMMARY:WEBLICA 2017 Cakovec
DESCRIPTION:The annual gathering of developers and designers\nin an idyllic setting “old barracks” in Čakovec
URL:http://superfounders.org/events/weblica-2017-cakovec/
LOCATION:Tehnološko-inovacijski centar\, Ul. bana Josipa Jelačića 22\, Čakovec\, 40000\, Croatia (Local Name: Hrvatska)
ATTACH;FMTTYPE=image/jpeg:http://superfounders.org/wp-content/uploads/2017/03/Weblica-2016-Damir-Kolmanic-1024x683-1.jpg
END:VEVENT
END:VCALENDAR