BEGIN:VCALENDAR
VERSION:2.0
PRODID:-//Superfounders - ECPv5.2.0//NONSGML v1.0//EN
CALSCALE:GREGORIAN
METHOD:PUBLISH
X-WR-CALNAME:Superfounders
X-ORIGINAL-URL:http://superfounders.org
X-WR-CALDESC:Events for Superfounders
BEGIN:VTIMEZONE
TZID:UTC
BEGIN:STANDARD
TZOFFSETFROM:+0000
TZOFFSETTO:+0000
TZNAME:UTC
DTSTART:20170101T000000
END:STANDARD
END:VTIMEZONE
BEGIN:VEVENT
DTSTART;VALUE=DATE:20170330
DTEND;VALUE=DATE:20170403
DTSTAMP:20260422T063502
CREATED:20170221T150439Z
LAST-MODIFIED:20170223T140336Z
UID:23790-1490832000-1491177599@superfounders.org
SUMMARY:Webiz Zrenjanin
DESCRIPTION:Webiz the most successful and the most massive concept of educational events in the field of digital technology\, IT and digital marketing in Serbia.
URL:http://superfounders.org/events/webiz/
LOCATION:Hotel Vojvodina\, Trg slobode 3\, Zrenjanin \, Serbia
CATEGORIES:Conference
ATTACH;FMTTYPE=image/png:http://superfounders.org/wp-content/uploads/2017/02/16266232_778225682334677_3421319433400158351_n.png
END:VEVENT
END:VCALENDAR