BEGIN:VCALENDAR
VERSION:2.0
PRODID:-//Superfounders - ECPv5.2.0//NONSGML v1.0//EN
CALSCALE:GREGORIAN
METHOD:PUBLISH
X-WR-CALNAME:Superfounders
X-ORIGINAL-URL:http://superfounders.org
X-WR-CALDESC:Events for Superfounders
BEGIN:VTIMEZONE
TZID:UTC
BEGIN:STANDARD
TZOFFSETFROM:+0000
TZOFFSETTO:+0000
TZNAME:UTC
DTSTART:20190101T000000
END:STANDARD
END:VTIMEZONE
BEGIN:VEVENT
DTSTART;VALUE=DATE:20190322
DTEND;VALUE=DATE:20190326
DTSTAMP:20260421T125701
CREATED:20190311T122743Z
LAST-MODIFIED:20190311T123441Z
UID:27980-1553212800-1553558399@superfounders.org
SUMMARY:Webiz Ecommerce Conference - Zrenjanin
DESCRIPTION:The event that the whole Webiz story began. Webiz conference today is one of the most massive events of this type in both Serbia and the region. In 2018\, the conference marked a record number of visitors – 1\,350 through four days\, as well as a two-track lecture program\, workshops and over fifty lecturers who came from seven European countries. \nA relaxed atmosphere\, a craft beer and a delicious bench served as an excellent introduction to the Webiz Conference\, which was held last Thursday in the Dogma Brewery Tap Room in Belgrade. In the presence of Webiz’s friends\, partners\, media representatives and lecturers\, the dates for the Webiz Conference and the accompanying Webiz E-commerce education will take place from March 22 to 25at a well-known place in the Zrenjanin Hotel Vojvodina. \nThe promotion itself looked somewhat different than in previous years\, and the audience was first able to attend a segment called Webiz Talks. Through discussions with Vuk Kosovac from Societe Generale Bank and Stefan Solom from Infostud\, interview moderator Aleksandra Petrovski tried to find out what stories they are behind successful businesses\, in an effort to bring the audience closer to the people who run these companies. \n 
URL:http://superfounders.org/events/webiz-ecommerce-zrenjanin/
LOCATION:Hotel Vojvodina\, Trg slobode 3-5\, Zrenjanin\, Serbia
CATEGORIES:Conference
ATTACH;FMTTYPE=image/png:http://superfounders.org/wp-content/uploads/2019/03/webizconference.png
END:VEVENT
END:VCALENDAR