BEGIN:VCALENDAR
VERSION:2.0
PRODID:-//Superfounders - ECPv5.2.0//NONSGML v1.0//EN
CALSCALE:GREGORIAN
METHOD:PUBLISH
X-WR-CALNAME:Superfounders
X-ORIGINAL-URL:http://superfounders.org
X-WR-CALDESC:Events for Superfounders
BEGIN:VTIMEZONE
TZID:UTC
BEGIN:STANDARD
TZOFFSETFROM:+0000
TZOFFSETTO:+0000
TZNAME:UTC
DTSTART:20170101T000000
END:STANDARD
END:VTIMEZONE
BEGIN:VEVENT
DTSTART;VALUE=DATE:20170913
DTEND;VALUE=DATE:20170915
DTSTAMP:20260421T152008
CREATED:20170613T083217Z
LAST-MODIFIED:20170613T083217Z
UID:25159-1505260800-1505433599@superfounders.org
SUMMARY:Watson SEE Summit Opatija
DESCRIPTION:Turning the digital journey into a cognitive business across SEE \nStep on your journey from digital to cognitive with us! Book your calendar for IBM’s largest conference for clients (CEO\, CIO\, COO\, CFO\, CMO\, CxO)\, influencers and industry innovators from across South East Europe\, including Croatia\, Slovenia\, Serbia\, Hungary\, Romania and Bulgaria. Join us to make cognitive technologies and IBM Watson real for you and your customers. \nFrom finance and telecommunications to retail and government – cognitive technologies are applied by organizations of all sizes and all industries.
URL:http://superfounders.org/events/watson-see-summit-opatija/
LOCATION:Remisens Premium Hotel Ambasador\, Feliksa Peršića 5\, Opatija\, 51410\, Croatia (Local Name: Hrvatska)
CATEGORIES:Conference
ATTACH;FMTTYPE=image/png:http://superfounders.org/wp-content/uploads/2017/06/SeeSummitWatson.png
END:VEVENT
END:VCALENDAR