BEGIN:VCALENDAR
VERSION:2.0
PRODID:-//Superfounders - ECPv5.2.0//NONSGML v1.0//EN
CALSCALE:GREGORIAN
METHOD:PUBLISH
X-WR-CALNAME:Superfounders
X-ORIGINAL-URL:http://superfounders.org
X-WR-CALDESC:Events for Superfounders
BEGIN:VTIMEZONE
TZID:UTC
BEGIN:STANDARD
TZOFFSETFROM:+0000
TZOFFSETTO:+0000
TZNAME:UTC
DTSTART:20170101T000000
END:STANDARD
END:VTIMEZONE
BEGIN:VEVENT
DTSTART;TZID=UTC:20171130T180000
DTEND;TZID=UTC:20171130T203000
DTSTAMP:20260421T183600
CREATED:20171130T092417Z
LAST-MODIFIED:20171130T093754Z
UID:25969-1512064800-1512073800@superfounders.org
SUMMARY:Tourism and Marketing Strategy Seminar- Athens
DESCRIPTION:The Center for Entrepreneurship\, Development and Innovation\, with a clear orientation in the documentation of knowledge and lifelong learning\, organizes in cooperation with INNOVATHENS powered by Samsung \, the Innovation and Entrepreneurship Center of Technopolis Municipality of Athens \, a seminar on Tourism Marketing Strategy 2018. \n\nthe aim & objective\n– is to acquaint the participants the new trends for 2018 perhaps the most popular of our country industry. The Tourism Industry.\n– The industry is required to monitor the module. No concepts will be analyzed\, but only tactics as they appear in the subject matter. \n  \nSuggestion Topics \n– Finders before they arrive (Marketing Strategy) \n– Train and plan for negative travelers \n– Use social data to better understand out-of-market visitors \n– Double down on Instagram \n  \nParticipation is free of charge.  Necessary pre-registration. \nA priority order will be strictly adhered to.  \nParticipants will receive a tracking certificate.
URL:http://superfounders.org/events/tourism-and-marketing-strategy-seminar-athens/
LOCATION:Innov Athens\, Pireos 100\, Athens\, Greece
CATEGORIES:meetup
ATTACH;FMTTYPE=image/jpeg:http://superfounders.org/wp-content/uploads/2017/11/marketingtourismathens.jpg
END:VEVENT
END:VCALENDAR