BEGIN:VCALENDAR
VERSION:2.0
PRODID:-//Superfounders - ECPv5.2.0//NONSGML v1.0//EN
CALSCALE:GREGORIAN
METHOD:PUBLISH
X-WR-CALNAME:Superfounders
X-ORIGINAL-URL:http://superfounders.org
X-WR-CALDESC:Events for Superfounders
BEGIN:VTIMEZONE
TZID:UTC
BEGIN:STANDARD
TZOFFSETFROM:+0000
TZOFFSETTO:+0000
TZNAME:UTC
DTSTART:20170101T000000
END:STANDARD
END:VTIMEZONE
BEGIN:VEVENT
DTSTART;VALUE=DATE:20170512
DTEND;VALUE=DATE:20170514
DTSTAMP:20260421T190417
CREATED:20170426T091943Z
LAST-MODIFIED:20170426T093102Z
UID:24492-1494547200-1494719999@superfounders.org
SUMMARY:ThinkBiz Academy Athens
DESCRIPTION:ThinkBiz Academy is a 2 – day conference on entrepreneurship\, covering a wide range of subjects\, which contribute to basic knowledge\, familiarization and training of the attendees with the entrepreneurial world in Greece. \n\n\n\n\n\n\n\n\n\n\n\n\n\n\n\nThinkBiz Academy is open to all students and young people who want to explore the business field and have new and fresh ideas for the future. \nThe event aims at the participants’ professional and personal development through a different experience of learning\, based on lectures from prominent executives \, interactive workshops with experiential excercises and interactive games and happenings.
URL:http://superfounders.org/events/thinkbiz-academy/
LOCATION:The American College of Greece\, Gracias 6\, Ag. Paraskevi 153 42 \, Athens\, Greece
CATEGORIES:Conference
ATTACH;FMTTYPE=image/jpeg:http://superfounders.org/wp-content/uploads/2017/04/18057124_1465441870195226_6028251572514858745_n.jpg
END:VEVENT
END:VCALENDAR