BEGIN:VCALENDAR
VERSION:2.0
PRODID:-//Superfounders - ECPv5.2.0//NONSGML v1.0//EN
CALSCALE:GREGORIAN
METHOD:PUBLISH
X-WR-CALNAME:Superfounders
X-ORIGINAL-URL:http://superfounders.org
X-WR-CALDESC:Events for Superfounders
BEGIN:VTIMEZONE
TZID:UTC
BEGIN:STANDARD
TZOFFSETFROM:+0000
TZOFFSETTO:+0000
TZNAME:UTC
DTSTART:20170101T000000
END:STANDARD
END:VTIMEZONE
BEGIN:VEVENT
DTSTART;TZID=UTC:20170627T180000
DTEND;TZID=UTC:20170627T220000
DTSTAMP:20260421T202950
CREATED:20170622T071910Z
LAST-MODIFIED:20170623T093104Z
UID:25287-1498586400-1498600800@superfounders.org
SUMMARY:The Squeeze - Athens
DESCRIPTION:The Squeeze#10 \nThe 10th edition of The Squeeze will be happening on Tuesday 27 June\, from 18:00 until 22:00.\nA fast-paced and full of energy pitching competition you don’t want to miss! \nNew pitches\, new opportunities! Eight ambitious Orange Grove entrepreneurs will take the stage to present their innovative business ideas to an international panel of experts\, in order to win €15.000 and €10.000 in prize money. \nGet ready to be impressed by our jury Margot Scheltema\, Rune Theill\, Vera Alexandropoulou\, and Aigli Balamatsi\, who will select the two lucky winners! \nThe competition is made possible through the support of our Lead Donor\, the Stavros Niarchos Foundation. \nBut that’s not all! After the competition Heineken will be there to start the party\, and also L’artigiano with delicious pizza\, and of course lots of networking and partying! \nEntrance is FREE! \nH Admission is free and reservations you can do here
URL:http://superfounders.org/events/the-squeeze-athens/
LOCATION:Orange Grove\, Leoforos Vasileos Konstantinou 7\, Athens\, Greece
CATEGORIES:Pitching competition
ATTACH;FMTTYPE=image/png:http://superfounders.org/wp-content/uploads/2017/06/TheSqueeze10-702x336.png
END:VEVENT
END:VCALENDAR