BEGIN:VCALENDAR
VERSION:2.0
PRODID:-//Superfounders - ECPv5.2.0//NONSGML v1.0//EN
CALSCALE:GREGORIAN
METHOD:PUBLISH
X-WR-CALNAME:Superfounders
X-ORIGINAL-URL:http://superfounders.org
X-WR-CALDESC:Events for Superfounders
BEGIN:VTIMEZONE
TZID:UTC
BEGIN:STANDARD
TZOFFSETFROM:+0000
TZOFFSETTO:+0000
TZNAME:UTC
DTSTART:20180101T000000
END:STANDARD
END:VTIMEZONE
BEGIN:VEVENT
DTSTART;VALUE=DATE:20180317
DTEND;VALUE=DATE:20180318
DTSTAMP:20260421T183343
CREATED:20180228T094734Z
LAST-MODIFIED:20180228T094734Z
UID:26162-1521244800-1521331199@superfounders.org
SUMMARY:TEDxAUEB 2018 arctos - Athens
DESCRIPTION:TEDxAUEB returns for another year on Saturday\, March 17\, at Technopolis\, City of Athens. Twelve speakers from Greece and abroad\, from different disciplines\, will approach through their personal experiences the particular importance of “arctos”. TEDxAUEB’s scene could not miss performances of artists who have found their own star in art\, but also interactive workshops inspired by a world that goes forward.
URL:http://superfounders.org/events/tedxaueb-2018-athens/
LOCATION:Technopolis City of Athens
CATEGORIES:Conference
ATTACH;FMTTYPE=image/jpeg:http://superfounders.org/wp-content/uploads/2018/02/tedxaueb2018arctos.jpg
END:VEVENT
END:VCALENDAR