BEGIN:VCALENDAR
VERSION:2.0
PRODID:-//Superfounders - ECPv5.2.0//NONSGML v1.0//EN
CALSCALE:GREGORIAN
METHOD:PUBLISH
X-WR-CALNAME:Superfounders
X-ORIGINAL-URL:http://superfounders.org
X-WR-CALDESC:Events for Superfounders
BEGIN:VTIMEZONE
TZID:UTC
BEGIN:STANDARD
TZOFFSETFROM:+0000
TZOFFSETTO:+0000
TZNAME:UTC
DTSTART:20180101T000000
END:STANDARD
END:VTIMEZONE
BEGIN:VEVENT
DTSTART;VALUE=DATE:20180609
DTEND;VALUE=DATE:20180613
DTSTAMP:20260421T205846
CREATED:20180301T204055Z
LAST-MODIFIED:20180302T090721Z
UID:26180-1528502400-1528847999@superfounders.org
SUMMARY:Techsylvania Conference 2018 Cluj
DESCRIPTION:Techsylvania is a platform designed to empower the local tech community with its new and challenging perspectives brought each year. Therefore\, we have prepared for you another round of inspiring keynotes\, workshops\, hackathon and startup pitches to spark your imaginations. \nThe future is bold. But so are we. These continuous technological advancements are our main priority\, and we’ll try to make the best of them by extracting all the great insights from the industry leaders that will be present on our stage. \nA sneak peak at Techsylvania’s 2018 speakers:\n-Di-Ann Eisnor- Director of Growth at Waze\n-Max Niederhofer- General Partner at Sunstone Capital\n-Ted Persson- Design Partner at EQT Ventures \nOur agenda will include a dynamic program:\n– Connected Devices & Chatbots Hackathon\n– Technology & Innovation Conference\n– Startup Avalanche Competition\n– Workshops
URL:http://superfounders.org/events/techsylvania-2018-cluj/
LOCATION:Students Culture Hall\, Piaţa Lucian Blaga 1-3\, Cluj\, 400003\, Romania
CATEGORIES:Conference
ATTACH;FMTTYPE=image/png:http://superfounders.org/wp-content/uploads/2018/03/Techsylvania2018.png
END:VEVENT
END:VCALENDAR