BEGIN:VCALENDAR
VERSION:2.0
PRODID:-//Superfounders - ECPv5.2.0//NONSGML v1.0//EN
CALSCALE:GREGORIAN
METHOD:PUBLISH
X-WR-CALNAME:Superfounders
X-ORIGINAL-URL:http://superfounders.org
X-WR-CALDESC:Events for Superfounders
BEGIN:VTIMEZONE
TZID:UTC
BEGIN:STANDARD
TZOFFSETFROM:+0000
TZOFFSETTO:+0000
TZNAME:UTC
DTSTART:20180101T000000
END:STANDARD
END:VTIMEZONE
BEGIN:VEVENT
DTSTART;VALUE=DATE:20181119
DTEND;VALUE=DATE:20181124
DTSTAMP:20260423T114036
CREATED:20181119T115522Z
LAST-MODIFIED:20181119T120348Z
UID:27230-1542585600-1543017599@superfounders.org
SUMMARY:Techstars Startup Week Tallinn 2018 - Estonia
DESCRIPTION:TechStars Startup Week Tallinn 2018 is around the corner! 🚀With over 60 FREE EVENTS scheduled\, spots are filling up fast. If you find the event that makes you tick\, make sure to sign up to individual events below:\nMONDAY 19.11: \n07:30 KarmaRun Day 1: Stroomi at Startup Week Tallinn 2018\n09:00 EIT Food Innovation Demoday Estonia 2018\n09:30 “I need more space!” at Startup Week Tallinn 2018\n10:00 Create Apps on Blockchain at Startup Week Tallinn\n13:00 Workshop of future talent at Startup Week Tallinn 2018 – SOLD OUT\n14:00 The Ultimate Jobbatical HQ Tour at Startup Week Tallinn 2018 – SOLD OUT\n14:00 Antropoloog esitleb: “Kuidas toetada tuleviku tegijaid?\n14:00 FashionTech Workshop at Startup Week Tallinn 2018\n15:00 Kiuas Team Up at Startup Week Tallinn\n16:00 We don’t know what the F we’re doing at Startup Week Tallinn\n16:00 Kas maailmamuutvad ettevõtjad tulevad koolipingist?\n18:00 Techstars Startup Week Tallinn 2018 Opening powered by Superangel\, Tera Ventures & Funderbeam \nTUESDAY 20.11: \n07:30 KarmaRun Day 2: Kadriorg at Startup Week Tallinn 2018\n09:00 Big Data & Legal Challenges at Startup Week Tallinn – SOLD OUT\n10:00 Trind.vc Mentoring Sessions at Startup Week Tallinn\n14:00 Show Me The Money! Start-Up Funding 1.0 at Startup Week Tallinn – SOLD OUT\n14:00 Google Ads & Analytics Strategies at Startup Week Tallinn\n16:00 Äriplaani töötuba\n16:00 From Dreamers to Superheroes workshop at Startup Week Tallinn\n17:00 Tech meets Tallinn – Monese meets the world at Startup Week\n17:00 Networking Night #25 with Gunter Pauli\n18:00 Tootedisaini töötuba – millest alustada toote loomisel?\n18:00 Get it done! Yes\, but how? at Startup Week Tallinn 2018\n19:30 The Pitch at Startup Week Tallinn 2018\nWEDNESDAY 21.11: \n07:30 KarmaRun Day 3: Pirita at Startup Week Tallinn 2018\n9:00 Intellectual Property Strategy Workshop at Startup Week Tallinn\n11:00 Startup Week Tallinn Expo\n13:00 City Challenge on Biowaste at Startup Week Tallinn\n12:00 Elisa Pitching Competition at Startup Week Tallinn 2018\n14:00 Cybersecurity University Industry Networking at Startup Week TLN\n14:00 The Foundership Playshop at Startup Week Tallinn\n14:30 Bolt by Taxify: the launch of the e-scooters at Startup Week TLN\n15:00 EstBAN mentoring hours at Techstars Startup Week Tallinn 2018\n16:00 Kasutajast tulevikutehnoloogia loojaks!\n18:00 Scoro Speed Dating at Startup Week Tallinn 2018\n18:00 Twilio Estonia: A Unicorn tale with a T̷w̷i̷s̷t̷ Flex -. SOLD OUT\n18:30 Karma.vc Presents: SaaS Startup Benchmarks at Startup Week TLN\nTHURSDAY 22.11:\n07:30 KarmaRun Day 4: Old Town at Startup Week Tallinn 2018\n09:15 Mis loom on äriingel ja mida ta sööb? – Startup Week Tallinn\n10:00 Inventure X Techstars X United Angels Seed Day at Startup Week\n11:00 Startup Week Tallinn Expo\n12:30 Designing for Learning Applications at Startup Week Tallinn\n14:00 Why Your Fin-Tech Startup Idea Sucks at Startup Week Tallinn\n14:00 Global team for global growth at Startup Week Tallinn 2018\n16:00 Building Products People Love at Startup Week Tallinn 2018\n16:00 Andmekaeve töötuba at Techstars Startup Week Tallinn 2018\n17:00 Anxiety-free Public Speaking at Startup Week Tallinn – SOLD OUT\n17:00 #Myepicfail Night at Startup Week Tallinn 2018 – SOLD OUT\n18:00 Vaimo: What no one tells you about growth…at Startup Week TLN – SOLD OUT\n18:30 Techstars Meet and Greet Networking Night with Inventure\n18:30 sTARTUp Talks with Fractory.co at Startup Week Tallinn 2018 \nFRIDAY 23.11:\n07:30 KarmaRun Day 5: Kalamaja at Startup Week Tallinn 2018\n09:00 Relocateme.co morning meetup at Startup Week Tallinn 2018\n11:00 Hybrid reality: new perspectives at Startup Week Tallinn\n13:30 Circular Revolution Comes to Tallinn at Startup Week Tallinn\n14:00 Where the robot magic happens at Startup Week Tallinn\n14:00 Open Innovation Meetup\, Nordics_Tallinn at Startup Week Tallinn\n14:00 The Investor and Founder Game at Startup Week Tallinn 2018\n14:00 Build Your Own Cloud with Pilw.io at Startup Week Tallinn\n16:00 Esitluse töötuba at Techstars Startup Week Tallinn 2018\n18:00 Tallinn Mobility Hack at Startup Week Tallinn 2018\n19:00 Final Party of Techstars Startup Week Tallinn 2018 powered by Superangel & Hedman Lift \nTechStars Startup Week Tallinn 2018 is a five-day celebration of the entrepreneurial mindset and startup community happening all around the world. On 19–23 November 2018\, some of the most successful startups and startup community organizations in Estonia are opening their doors to share their best practices with the whole community. \nTracks for this year’s Tallinn Startup Week are:\n– Future Founders\,\n– Tech Meets Tallinn\,\n– Startup Superpowers. \nStartup Week started in Boulder\, Colorado 8 years ago and has now spread to more than 75 cities globally. Startup Week Tallinn will add Estonia to the Startup Week map for the third time. \nTechStars Startup Week Tallinn 2018 is brought to you by our startup community with the help of BAFF – Baltic-American Freedom Foundation\, Funderbeam\, Hedman Lift\, Startup Estonia\, Superangel\, Tera Ventures & Trind.vc. \nThis event is partially financed by European Regional Development Fund according to the program Startup Estonia (EU50651).
URL:http://superfounders.org/events/techstars-startup-week-tallinn-2018-estonia/
CATEGORIES:Workshop
END:VEVENT
END:VCALENDAR