BEGIN:VCALENDAR
VERSION:2.0
PRODID:-//Superfounders - ECPv5.2.0//NONSGML v1.0//EN
CALSCALE:GREGORIAN
METHOD:PUBLISH
X-WR-CALNAME:Superfounders
X-ORIGINAL-URL:http://superfounders.org
X-WR-CALDESC:Events for Superfounders
BEGIN:VTIMEZONE
TZID:UTC
BEGIN:STANDARD
TZOFFSETFROM:+0000
TZOFFSETTO:+0000
TZNAME:UTC
DTSTART:20210101T000000
END:STANDARD
END:VTIMEZONE
BEGIN:VEVENT
DTSTART;VALUE=DATE:20210519
DTEND;VALUE=DATE:20210522
DTSTAMP:20260421T144821
CREATED:20201110T103442Z
LAST-MODIFIED:20201111T101214Z
UID:29148-1621382400-1621641599@superfounders.org
SUMMARY:TechChill 2021: Point of No Return - Latvia
DESCRIPTION:For TechChill 2021 we are moving to May to talk EdTech\, HealthTech and Digital Transformation! \nWhat a weird summer. Usually\, around this time of the year\, team TechChill would be tired but happy and with well-stimulated minds. Behind our backs would be a roadshow around Europe that’s always full of stops at world-class conferences and we’d be well into the preparations for the new season’s launch. Unfortunately\, only the latter and our good spirits after the biggest part of summer spent participating in all things digital apply to this August. This is it\, despite the noticeable calendar shift in event industry\, we’re launching the TechChill 2021 season and.. there is a twist!
URL:http://superfounders.org/events/techchill-2021-point-of-no-return-latvia/
CATEGORIES:Conference
ATTACH;FMTTYPE=image/jpeg:http://superfounders.org/wp-content/uploads/2020/11/TechChill2021PointоfNoReturnLatvia.jpg
END:VEVENT
END:VCALENDAR