BEGIN:VCALENDAR
VERSION:2.0
PRODID:-//Superfounders - ECPv5.2.0//NONSGML v1.0//EN
CALSCALE:GREGORIAN
METHOD:PUBLISH
X-WR-CALNAME:Superfounders
X-ORIGINAL-URL:http://superfounders.org
X-WR-CALDESC:Events for Superfounders
BEGIN:VTIMEZONE
TZID:UTC
BEGIN:STANDARD
TZOFFSETFROM:+0000
TZOFFSETTO:+0000
TZNAME:UTC
DTSTART:20160101T000000
END:STANDARD
END:VTIMEZONE
BEGIN:VEVENT
DTSTART;VALUE=DATE:20161022
DTEND;VALUE=DATE:20161023
DTSTAMP:20260421T133021
CREATED:20161014T074901Z
LAST-MODIFIED:20161014T074901Z
UID:22147-1477094400-1477180799@superfounders.org
SUMMARY:StartupGrind-Zagreb
DESCRIPTION:Davorin Stetner is an investor\, entrepreneur and an adventurer. He is the CEO of KREATOR GROUP which consists of several companies\, brands and projects. \nCurrently he is the President of the Croatian Business Angels Network and serves as an advisor of The Croatian President Mrs. Kolinda Grabar – Kitarović in her Economic Council. Davorin is an adventurer who has traveled to more than 70 countries. \nCome meet him personally and learn how his experience can be applied to make yourself a better entrepreneur\, and increase your chances to build a successful startup or how to find the right business angel for your business.
URL:http://superfounders.org/events/startupgrind-zagreb/
LOCATION:pin Hide Map ZIP – Zagrebački Inkubator Poduzetništva\, Remetinečka cesta 7\, Zagreb\, Croatia (Local Name: Hrvatska)
CATEGORIES:Conference
ATTACH;FMTTYPE=image/jpeg:http://superfounders.org/wp-content/uploads/2016/10/grind.jpg
END:VEVENT
END:VCALENDAR