BEGIN:VCALENDAR
VERSION:2.0
PRODID:-//Superfounders - ECPv5.2.0//NONSGML v1.0//EN
CALSCALE:GREGORIAN
METHOD:PUBLISH
X-WR-CALNAME:Superfounders
X-ORIGINAL-URL:http://superfounders.org
X-WR-CALDESC:Events for Superfounders
BEGIN:VTIMEZONE
TZID:UTC
BEGIN:STANDARD
TZOFFSETFROM:+0000
TZOFFSETTO:+0000
TZNAME:UTC
DTSTART:20170101T000000
END:STANDARD
END:VTIMEZONE
BEGIN:VEVENT
DTSTART;TZID=UTC:20170608T083000
DTEND;TZID=UTC:20170608T210000
DTSTAMP:20260421T200210
CREATED:20170530T113523Z
LAST-MODIFIED:20170530T113523Z
UID:25013-1496910600-1496955600@superfounders.org
SUMMARY:Startup Wise Guys - Sofia
DESCRIPTION:Nothing beats meating up live\, so we’re coming to Sofia and throwing a breakfast meeting right before the DigitalK conference. Breakfast is co-hosted by LAUNCHub Ventures\, CowOrKing Space by Puzl and supported by DigitalK 2017. \nB2B Startups who are in Sofia – go\, meet them\, ask questions\, and apply for the next program: startupwiseguys.com/apply \nAt the breakfast: apart from getting to know us – the management team behind Startup Wise Guys\, you’ll also meet startups from Bulgaria that have already gone through our accelerator and some of the teams from current batch to hear insights directly from them.
URL:http://superfounders.org/events/startup-wise-guys-sofia/
LOCATION:CowOrKing Space by Puzl\, bul. Cherni Vrah 47\, floors 4 and 5\, Sofia \, Bulgaria
CATEGORIES:meetup
ATTACH;FMTTYPE=image/jpeg:http://superfounders.org/wp-content/uploads/2017/05/bulgarianb2bwseguys.jpg
END:VEVENT
END:VCALENDAR