BEGIN:VCALENDAR
VERSION:2.0
PRODID:-//Superfounders - ECPv5.2.0//NONSGML v1.0//EN
CALSCALE:GREGORIAN
METHOD:PUBLISH
X-WR-CALNAME:Superfounders
X-ORIGINAL-URL:http://superfounders.org
X-WR-CALDESC:Events for Superfounders
BEGIN:VTIMEZONE
TZID:UTC
BEGIN:STANDARD
TZOFFSETFROM:+0000
TZOFFSETTO:+0000
TZNAME:UTC
DTSTART:20170101T000000
END:STANDARD
END:VTIMEZONE
BEGIN:VEVENT
DTSTART;VALUE=DATE:20170622
DTEND;VALUE=DATE:20170625
DTSTAMP:20260421T215711
CREATED:20170516T073222Z
LAST-MODIFIED:20170517T174758Z
UID:24724-1498089600-1498348799@superfounders.org
SUMMARY:Startup your life Bucharest
DESCRIPTION:Startup Your Life is the first edition of the Beginner’s Business Camp\, organized by start-up.ro. Do you want to learn how to open up and grow your own business? Find out the secrets of promotion from industry specialists or learn about leadership? Come to a three-day intensive training session where you combine entrepreneurial knowledge with quality networking and fun.
URL:http://superfounders.org/events/startup-life-bucharest/
LOCATION:Bucharest\,  Putul lui Zamfir nr 28\, sect. 1\, Romania
CATEGORIES:Workshop
ATTACH;FMTTYPE=image/png:http://superfounders.org/wp-content/uploads/2017/05/startupyourlife.png
ORGANIZER;CN="Start-up.ro":MAILTO:hello@start-up.ro
END:VEVENT
END:VCALENDAR