BEGIN:VCALENDAR
VERSION:2.0
PRODID:-//Superfounders - ECPv5.2.0//NONSGML v1.0//EN
CALSCALE:GREGORIAN
METHOD:PUBLISH
X-WR-CALNAME:Superfounders
X-ORIGINAL-URL:http://superfounders.org
X-WR-CALDESC:Events for Superfounders
BEGIN:VTIMEZONE
TZID:UTC
BEGIN:STANDARD
TZOFFSETFROM:+0000
TZOFFSETTO:+0000
TZNAME:UTC
DTSTART:20160101T000000
END:STANDARD
END:VTIMEZONE
BEGIN:VEVENT
DTSTART;VALUE=DATE:20161027
DTEND;VALUE=DATE:20161028
DTSTAMP:20260421T171957
CREATED:20161014T065006Z
LAST-MODIFIED:20161014T080109Z
UID:22131-1477526400-1477612799@superfounders.org
SUMMARY:Startup ecosystem Serbia
DESCRIPTION:Panel discussion on the subject of „Examples of good practice in European startup ecosystems and positioning of Serbian startups on global scene through law and political aspects“. \n“Startup ecosystem Serbia” is the first conference who’s main focus will be the role of the state in ecosystem startup development but also in alternative sources of finances in startup support. \nFirst speaker on the panel discussion is Kasper Soumalainen from Finland. \nThe conference will be divided into 3 parts: \n\nPanel discussion: examples of good practise in European startup ecosystems and positioning Serbian ecosystems on the global startup scene.\nRound table:  Discussion about the problems and challenges that Serbian startups have in the field of law\, administration and education.\nPanel discussion: alternative model of financing . How big companies can invest in startups.\n\n 
URL:http://superfounders.org/events/startup-ecosystem-serbia/
LOCATION:Privredni forum mladih\, Cara Lazara 5-7\, Belgrade\, Serbia
CATEGORIES:Conference
ATTACH;FMTTYPE=image/jpeg:http://superfounders.org/wp-content/uploads/2016/10/ecosystem_serbia.jpg
END:VEVENT
END:VCALENDAR