BEGIN:VCALENDAR
VERSION:2.0
PRODID:-//Superfounders - ECPv5.2.0//NONSGML v1.0//EN
CALSCALE:GREGORIAN
METHOD:PUBLISH
X-WR-CALNAME:Superfounders
X-ORIGINAL-URL:http://superfounders.org
X-WR-CALDESC:Events for Superfounders
BEGIN:VTIMEZONE
TZID:UTC
BEGIN:STANDARD
TZOFFSETFROM:+0000
TZOFFSETTO:+0000
TZNAME:UTC
DTSTART:20200101T000000
END:STANDARD
END:VTIMEZONE
BEGIN:VEVENT
DTSTART;VALUE=DATE:20200129
DTEND;VALUE=DATE:20200130
DTSTAMP:20260421T144844
CREATED:20191219T124645Z
LAST-MODIFIED:20191219T124853Z
UID:28745-1580256000-1580342399@superfounders.org
SUMMARY:sTARTUp Day 2020 - Tartu\, Estonia
DESCRIPTION:Publiée par sTARTUp Day sur Mardi 3 septembre 2019 \n\nsTARTUp Day is bringing together startup-minded people to celebrate entrepreneurship in the smart city of Tartu.\nϞ Inspiring-educational stage program;         Ϟ Organized matchmaking;\nϞ Hands-on seminars with professionals;        Ϟ Investor-startup speed dating;\nϞ A large demo area full of innovation;        Ϟ Vibrant side events;\nϞ International pitching competitions;         Ϟ Unforgettable parties;
URL:http://superfounders.org/events/startup-day-2020-tartu-estonia/
LOCATION:UT Sports Hall\, Ujula 4\, Tartu\, Estonia
CATEGORIES:Conference
END:VEVENT
END:VCALENDAR