BEGIN:VCALENDAR
VERSION:2.0
PRODID:-//Superfounders - ECPv5.2.0//NONSGML v1.0//EN
CALSCALE:GREGORIAN
METHOD:PUBLISH
X-WR-CALNAME:Superfounders
X-ORIGINAL-URL:http://superfounders.org
X-WR-CALDESC:Events for Superfounders
BEGIN:VTIMEZONE
TZID:UTC
BEGIN:STANDARD
TZOFFSETFROM:+0000
TZOFFSETTO:+0000
TZNAME:UTC
DTSTART:20170101T000000
END:STANDARD
END:VTIMEZONE
BEGIN:VEVENT
DTSTART;VALUE=DATE:20170903
DTEND;VALUE=DATE:20170908
DTSTAMP:20260423T093406
CREATED:20170621T105732Z
LAST-MODIFIED:20170621T105932Z
UID:25279-1504396800-1504828799@superfounders.org
SUMMARY:Start Tel Aviv Competition Athens
DESCRIPTION:The Embassy of Israel in Greece and the Impact Hub Athens\, a Greek organization founded with the vision of creating an ecosystem that promotes and enhances the innovative and socially positive entrepreneurship\, is pleased to announce the organization of entrepreneurship contest Start Tel Aviv 2017 which will take place on July 5\, 2017 in Athens! This is the third time that the competition is organized in Greece. \nThe Start Tel Aviv is a global contest\, held at the initiative of the Israeli Foreign Ministry and the Tel Aviv Global\, bringing together innovative companies from 30 different countries and offering them the opportunity to become acquainted with the innovative startup ecosystem in Tel Aviv. This year\, the Start Tel Aviv invites startup companies from the broader field of social entrepreneurship and urban development. The prize is an intensive\, five-day training experience in the heart of Tel Aviv during the exciting and innovative DLD Tel Aviv Innovation Festival \, on 3-7 September 2017. The winner from Greece along with 30 winners selected countries -were conducted while the competition – will have the unique opportunity to participate in a specially designed program and to get to know the business ecosystem in Tel Aviv. \nWHO CAN APPLY?\n\nGreek startups from the fields of social entrepreneurship and/or urban development ICT\, IOT\, web\, and mobile technology in early seed funding stage in order “to make the world a better place”.\nThe team representatives must be aged 25-37 years old (exceptions are made).\nThe team must have a prototype to present and to have proven itself already.\nThe participants have to be one of the founders and/or directors of the company (not an employee).\nEntrepreneurial\, innovative and media attractive companies.\nAn independent (not a subsidiary of a large and established) company.\nWinner must speak English.\n\nWHAT’S THE PRIZE?\n\nThe winner goes to Tel Aviv\, Israel!\nThe prize is a one-week all-expenses paid trip for winners from selected countries around the world. They will participate in lectures\, workshops and meetings in a tailor-made 5 day seminar for them at the DLD Tel Aviv Innovation Festival.\n\n\nWHAT IS THE DLD TEL AVIV INNOVATION FESTIVAL?\n\nIt is Israel’s largest international high-tech gathering\, featuring hundreds of startups\, VCs\, angel investors and leading multinationals.\nIt is the best place to network with the entire high-tech community. It is headed by the Israeli entrepreneur Mr. Yossi Vardi.\nYou can meet the coolest and smartest companies\, investors\, designers\, techies\, artists\, from Israel and abroad.\nFurther information about the DLD program can be found at www.dldtelaviv.com\n\n\nHOW DO YOU APPLY?\n\nFill out your application form in English here.\nNote that only one founding member of a start-up company may submit the company to the competition.\nThe prize will be given to the representative who entered the competition.\n\nWHO WILL EVALUATE YOU?\n\nThe jury will consist of professionals\, investors and entrepreneurs from Greece. The full list of the jury members will soon be announced.\n\n\nDON’T MISS THE DEADLINE!\n\nApplications must be submitted by June 26\, 2017. at midnight (Athens local time).\nWe will announce the selected candidates for the pitching competition personally and on our social media channels.\n\n\nWHEN IS THE COMPETITION?\n\nJuly 5th 2017 is the date of the “Start Tel Aviv 2017” competition. Participants will be invited to pitch their ideas in front of the jury.\nThe venue will be Impact Hub Athens.
URL:http://superfounders.org/events/start-tel-aviv-competition-athens/
LOCATION:Athens \, Greece
CATEGORIES:Conference
ATTACH;FMTTYPE=image/jpeg:http://superfounders.org/wp-content/uploads/2017/06/TLV-Startup2Athens_1088185469.jpg
END:VEVENT
END:VCALENDAR