BEGIN:VCALENDAR
VERSION:2.0
PRODID:-//Superfounders - ECPv5.2.0//NONSGML v1.0//EN
CALSCALE:GREGORIAN
METHOD:PUBLISH
X-WR-CALNAME:Superfounders
X-ORIGINAL-URL:http://superfounders.org
X-WR-CALDESC:Events for Superfounders
BEGIN:VTIMEZONE
TZID:UTC
BEGIN:STANDARD
TZOFFSETFROM:+0000
TZOFFSETTO:+0000
TZNAME:UTC
DTSTART:20170101T000000
END:STANDARD
END:VTIMEZONE
BEGIN:VEVENT
DTSTART;VALUE=DATE:20171002
DTEND;VALUE=DATE:20171003
DTSTAMP:20260421T091714
CREATED:20170929T192237Z
LAST-MODIFIED:20170929T192334Z
UID:25550-1506902400-1506988799@superfounders.org
SUMMARY:Southeast Europe Innovation Summit: The Challenges of Business Innovation
DESCRIPTION:The South East Europe Innovation Summit 2017 is a Belgrade’s unique event that brings together brilliant minds interested in innovation and the smart living & technology revolution to discuss and explore the latest trends in the world of change. \nOur aim is to present both regional and international talent\, innovative ideas\, and cutting-edge technology solutions that can revolutionize and improve our lives. \nDuring this two-day event\, industry experts\, CEOs of global institutions\, business leaders\, renowned companies\, investors\, innovation policy makers and system enablers\, universities\, and the founders of the world’s most disruptive startups will contribute to redefining the future of Southeast Europe as one of the best innovation destinations. Attendees will enjoy numerous opportunities to learn and network\, engage in panel discussions\, participate in conferences and workshops\, and get inspired by world-class speakers. Together\, we will push the boundaries of innovation.
URL:http://superfounders.org/events/southeast-europe-innovation-summit-challenges-business-innovation/
LOCATION:Hotel Zlatnik\,  Dobanovacka 95\, Belgrade\, Serbia
CATEGORIES:Conference
ATTACH;FMTTYPE=image/png:http://superfounders.org/wp-content/uploads/2017/09/SouthEastEuropeInnovationSummit.png
END:VEVENT
END:VCALENDAR