BEGIN:VCALENDAR
VERSION:2.0
PRODID:-//Superfounders - ECPv5.2.0//NONSGML v1.0//EN
CALSCALE:GREGORIAN
METHOD:PUBLISH
X-WR-CALNAME:Superfounders
X-ORIGINAL-URL:http://superfounders.org
X-WR-CALDESC:Events for Superfounders
BEGIN:VTIMEZONE
TZID:UTC
BEGIN:STANDARD
TZOFFSETFROM:+0000
TZOFFSETTO:+0000
TZNAME:UTC
DTSTART:20170101T000000
END:STANDARD
END:VTIMEZONE
BEGIN:VEVENT
DTSTART;TZID=UTC:20170429T180000
DTEND;TZID=UTC:20170429T220000
DTSTAMP:20260422T000314
CREATED:20170426T124708Z
LAST-MODIFIED:20170426T133350Z
UID:24502-1493488800-1493503200@superfounders.org
SUMMARY:Sofia AI summit Vol.2
DESCRIPTION:Sofia’s AI summit for applied Artificial Intelligence is covering all topics around the best use of Machine Learning – Deep Learning – Cognitive – Augmented Intelligence – Natural Language Processing – Neural Networks – computer vision – and more. Our goal is to bring international speakers who have domain expertise in AI\, Machine Learning and Computer Vision who will show us the benefits and the future of technology. \nSofia AI community is bringing startups\, corporates and academics in the AI sphere together to understand the current state of these technologies\, its value add for businesses and what we can expect in the near future. Our events aim to reveal new trends\, industry insights and practicable approaches of applying technologies around the analysis of text\, audio\, image\, video\, and structured data. \nFor our second edition our first speaker is Norman Winarsky! Norman works with entrepreneurs\, startups\, research institutes\, and major companies to create breakthrough ventures or products\, and advises them on the framework and practice for successful innovation. \nNorman is past President of SRI Ventures at SRI International\, a world-leading research institute founded by Stanford University in 1946. He has been a founder and leader of SRI’s venture strategy and process\, which has resulted in more than sixty ventures worth over $20 billion. Norman helped create and build companies ranging from artificial intelligence\, natural language\, and computer vision\, to medical devices\, robotics\, and nanotechnology. \nHe was a co-founder and board member of Siri\, which was spun out from SRI in January 2008 and acquired by Apple in April 2010. Siri has become a worldwide phenomenon\, establishing the breakthrough market category of virtual personal assistant. \nHe is currently a lecturer at Stanford University\, and co-author of “If You Really Want to Change the World; A Guide to Creating\, Building\, and Sustaining Breakthrough Ventures”\, published by Harvard Business Review Press.
URL:http://superfounders.org/events/sofia-ai-summit-vol-2/
LOCATION:Yalta Club\, Bulevard Tsar Osvoboditel 20 \, Sofia\, 1000 \, Bulgaria
CATEGORIES:meetup
ATTACH;FMTTYPE=image/jpeg:http://superfounders.org/wp-content/uploads/2017/04/sofialsummit.jpg
END:VEVENT
END:VCALENDAR