BEGIN:VCALENDAR
VERSION:2.0
PRODID:-//Superfounders - ECPv5.2.0//NONSGML v1.0//EN
CALSCALE:GREGORIAN
METHOD:PUBLISH
X-WR-CALNAME:Superfounders
X-ORIGINAL-URL:http://superfounders.org
X-WR-CALDESC:Events for Superfounders
BEGIN:VTIMEZONE
TZID:UTC
BEGIN:STANDARD
TZOFFSETFROM:+0000
TZOFFSETTO:+0000
TZNAME:UTC
DTSTART:20160101T000000
END:STANDARD
END:VTIMEZONE
BEGIN:VEVENT
DTSTART;VALUE=DATE:20161119
DTEND;VALUE=DATE:20161120
DTSTAMP:20260421T183342
CREATED:20161115T083346Z
LAST-MODIFIED:20161115T083425Z
UID:23208-1479513600-1479599999@superfounders.org
SUMMARY:Secret project meta hackaton - Academy Hub385
DESCRIPTION:From pitch to finished product in 30 hours.\nSecret Project team will gather people to build an online app for organising hackathons (yes\, very meta) within 30 hour time span. \n\nIf you have experience and would like to contribute you are more than welcome! But if you don’t have eperience\, and you would like to learn – please fill out the form – and spend entire day with experienced developers and designers watching how techonologies and skills come together to form a finished product. Learn about back end\, front end\, user experience\, project management\, and so on…
URL:http://superfounders.org/events/secret-project-meta-hackaton-academy-hub385/
LOCATION:Hub 385\, Zagreb\, Croatia (Local Name: Hrvatska)
ATTACH;FMTTYPE=image/png:http://superfounders.org/wp-content/uploads/2016/11/metahackaton.png
END:VEVENT
END:VCALENDAR