BEGIN:VCALENDAR
VERSION:2.0
PRODID:-//Superfounders - ECPv5.2.0//NONSGML v1.0//EN
CALSCALE:GREGORIAN
METHOD:PUBLISH
X-WR-CALNAME:Superfounders
X-ORIGINAL-URL:http://superfounders.org
X-WR-CALDESC:Events for Superfounders
BEGIN:VTIMEZONE
TZID:UTC
BEGIN:STANDARD
TZOFFSETFROM:+0000
TZOFFSETTO:+0000
TZNAME:UTC
DTSTART:20170101T000000
END:STANDARD
END:VTIMEZONE
BEGIN:VEVENT
DTSTART;TZID=UTC:20170613T180000
DTEND;TZID=UTC:20170613T220000
DTSTAMP:20260422T015425
CREATED:20170607T082642Z
LAST-MODIFIED:20170607T084350Z
UID:25133-1497376800-1497391200@superfounders.org
SUMMARY:GreeceJS #19 programming - Athens
DESCRIPTION:Summer is imminent and its scheduled last meetup for this season on Tuesday\, June 13. This is a meetup you wouldn’t want to miss\, and here’s why: \nStratos Pavlakis will take a deep dive into advanced git techniques. \nLast time it was talked about Cycle.js\, assuming the audience was familiar with functional programming. Turns out we were wrong! So we asked Nikos Kalogridis to come back for a second talk and show how functional style programming with JS is done. \nThe agenda for this meetup is: \n18:00 – 18:30\nNetworking\, food & beverages \n18:30 – 18:45\nOpening talk \n18:45 – 19:30\nFunctional style programming with JS\nNikos Kalogridis\, Senior software engineer @Tripsta \nWhat is functional programming? Why all the fuss about it and how does it compare with OOP? How do you write functional code with JS? How do programming patterns apply (e.g. dependency injection\, ports/adapters architecture)? \n20:00 – 20:45\nGitting like a Pro\nStratos Pavlakis\, UI Tech Lead @Workable \n Being productive as coders involve mastering our tools. And mastering Git can make the difference between ? and ?. It can make the difference between leaving the office at 18:00 and leaving the office at 22:00. In this presentation\, we’ll do some live coding and make the most out of Git to deal with old time classic problems. \n21:00\nBeerJS @The Lazy Bulldog Pub \nOrfeos 2\, Athens (right next to the venue) \nLooking forward to seeing you all there. And don’t forget our BeerJS event. It’s a perfect opportunity to meet fellow colleagues and engage with the community. \n 
URL:http://superfounders.org/events/programming-meetup/
LOCATION:Innov Athens\, Pireos 100\, Athens\, Greece
CATEGORIES:meetup
END:VEVENT
END:VCALENDAR