BEGIN:VCALENDAR
VERSION:2.0
PRODID:-//Superfounders - ECPv5.2.0//NONSGML v1.0//EN
CALSCALE:GREGORIAN
METHOD:PUBLISH
X-WR-CALNAME:Superfounders
X-ORIGINAL-URL:http://superfounders.org
X-WR-CALDESC:Events for Superfounders
BEGIN:VTIMEZONE
TZID:UTC
BEGIN:STANDARD
TZOFFSETFROM:+0000
TZOFFSETTO:+0000
TZNAME:UTC
DTSTART:20180101T000000
END:STANDARD
END:VTIMEZONE
BEGIN:VEVENT
DTSTART;VALUE=DATE:20180515
DTEND;VALUE=DATE:20180517
DTSTAMP:20260421T200806
CREATED:20170202T162447Z
LAST-MODIFIED:20181012T081834Z
UID:23651-1526342400-1526515199@superfounders.org
SUMMARY:Podim Conference 2018 - Maribor Slovenia
DESCRIPTION:PODIM Conference – Every year\, it offers two days of intensive courses and networking opportunities.\nThe innovativeness and speed of successful startups interfere with all aspects of the private and business life. Sometimes they entirely turn around the way a society\, including industries\, functions. We can find countless cases of hidden forces of startups transforming the environments we work in\, the markets in which we operate\, the way organizations do business and\, last but not least\, the values of a society. Startups are thus one of the main forces behind society’s progress and development.
URL:http://superfounders.org/events/podim-conference-2018/
LOCATION:Hotel Habuk\, Pohorska ulica 59\, Maribor \, Slovenia \, 2000 \, Slovenia
CATEGORIES:Conference
ATTACH;FMTTYPE=image/jpeg:http://superfounders.org/wp-content/uploads/2017/02/podim_0.jpg
END:VEVENT
END:VCALENDAR