BEGIN:VCALENDAR
VERSION:2.0
PRODID:-//Superfounders - ECPv5.2.0//NONSGML v1.0//EN
CALSCALE:GREGORIAN
METHOD:PUBLISH
X-WR-CALNAME:Superfounders
X-ORIGINAL-URL:http://superfounders.org
X-WR-CALDESC:Events for Superfounders
BEGIN:VTIMEZONE
TZID:UTC
BEGIN:STANDARD
TZOFFSETFROM:+0000
TZOFFSETTO:+0000
TZNAME:UTC
DTSTART:20170101T000000
END:STANDARD
END:VTIMEZONE
BEGIN:VEVENT
DTSTART;VALUE=DATE:20170526
DTEND;VALUE=DATE:20170529
DTSTAMP:20260421T205932
CREATED:20170322T113010Z
LAST-MODIFIED:20170322T113010Z
UID:24173-1495756800-1496015999@superfounders.org
SUMMARY:PMI Osijek
DESCRIPTION:Facing the fourth PMIDayzi! Methods and skills (tricks?) Which projects successfully lead\, selection of the project team\, as well as the reasons why projects fail\, are topics that every year attract more and more visitors to this\, after all a little different\, a conference. What was it like last year\, and other years can be viewed / recall in the gallery. \nThis year will continue cooperation with the Faculty of Electrical Engineering\, Computer Science and Information Technology in Osijek. This year PMIDayzi will be held May 26 to 28 in the Great Hall FERIT-and\, at the site of the Prince Trpimira 2B.
URL:http://superfounders.org/events/pmi-osijek/
LOCATION:FERIT\, Kneza Trpimira 2B\, Osijek\, Croatia (Local Name: Hrvatska)
CATEGORIES:Conference
ATTACH;FMTTYPE=image/jpeg:http://superfounders.org/wp-content/uploads/2017/03/PMIDayz_2017_3D.jpg
END:VEVENT
END:VCALENDAR