BEGIN:VCALENDAR
VERSION:2.0
PRODID:-//Superfounders - ECPv5.2.0//NONSGML v1.0//EN
CALSCALE:GREGORIAN
METHOD:PUBLISH
X-WR-CALNAME:Superfounders
X-ORIGINAL-URL:http://superfounders.org
X-WR-CALDESC:Events for Superfounders
BEGIN:VTIMEZONE
TZID:UTC
BEGIN:STANDARD
TZOFFSETFROM:+0000
TZOFFSETTO:+0000
TZNAME:UTC
DTSTART:20170101T000000
END:STANDARD
END:VTIMEZONE
BEGIN:VEVENT
DTSTART;VALUE=DATE:20170510
DTEND;VALUE=DATE:20170514
DTSTAMP:20260421T190713
CREATED:20170427T080345Z
LAST-MODIFIED:20170427T080654Z
UID:24516-1494374400-1494719999@superfounders.org
SUMMARY:Patras Science Festival 2017
DESCRIPTION:The « Patras Science Festival» will be hosted in the Greek Open University and at selected locations in the city center from 10 to 13 May\, where adults and children will have the opportunity to ask and give scientific answers\, discover the science behind every facet of life\, discuss with scientists\, to experiment\, to play\, to participate in workshops and attend interesting lectures and performances. \nDuring the festival\, visitors will have the opportunity to participate in interactive exhibits\, science experiments\, laboratories and workshops\, educational games\, scientific theater performances and documentaries. The festival is a platform for communication between science and the public\, but also an innovation in the field of science communication. \nThe ” Patras Science Festival» organized by the educational organization “Science Communication – SciCo» and the Greek Open University under the auspices of the Greek Open University and the General Secretariat for Research and Technology\, in collaboration with numerous academic\, research organizations and educational institutions.
URL:http://superfounders.org/events/patras-science-festival-2017/
LOCATION:Patras\, Greece
CATEGORIES:Workshop,Worskop
ATTACH;FMTTYPE=image/png:http://superfounders.org/wp-content/uploads/2017/04/patrassciencefestival.png
END:VEVENT
END:VCALENDAR