BEGIN:VCALENDAR
VERSION:2.0
PRODID:-//Superfounders - ECPv5.2.0//NONSGML v1.0//EN
CALSCALE:GREGORIAN
METHOD:PUBLISH
X-WR-CALNAME:Superfounders
X-ORIGINAL-URL:http://superfounders.org
X-WR-CALDESC:Events for Superfounders
BEGIN:VTIMEZONE
TZID:UTC
BEGIN:STANDARD
TZOFFSETFROM:+0000
TZOFFSETTO:+0000
TZNAME:UTC
DTSTART:20170101T000000
END:STANDARD
END:VTIMEZONE
BEGIN:VEVENT
DTSTART;VALUE=DATE:20170403
DTEND;VALUE=DATE:20170404
DTSTAMP:20260422T154623
CREATED:20170220T120055Z
LAST-MODIFIED:20170220T120124Z
UID:23728-1491177600-1491263999@superfounders.org
SUMMARY:NetNomadi Konferencija Paracin
DESCRIPTION:Net Nomads represents the conference\, which for the first time will be organized in 2017 in Paracin. The conference is a one day and dedicated to the Internet\, because the Internet\, freelancers …. It is intended primarily for high school students and students\, unemployed and people who understand the possibilities of the Internet. The conference is aimed at connecting young people with successful people who are positive examples to motivate a proactive approach to recruitment.
URL:http://superfounders.org/events/netnomadi-konferencija-paracin/
LOCATION:Theater Paracin\, Dr Dragoljuba Jovanovica\, Paracin\, 35250\, Serbia
CATEGORIES:Conference
ATTACH;FMTTYPE=image/jpeg:http://superfounders.org/wp-content/uploads/2017/02/15781488_1832486823656899_5179988389150543280_n.jpg
END:VEVENT
END:VCALENDAR