BEGIN:VCALENDAR
VERSION:2.0
PRODID:-//Superfounders - ECPv5.2.0//NONSGML v1.0//EN
CALSCALE:GREGORIAN
METHOD:PUBLISH
X-WR-CALNAME:Superfounders
X-ORIGINAL-URL:http://superfounders.org
X-WR-CALDESC:Events for Superfounders
BEGIN:VTIMEZONE
TZID:UTC
BEGIN:STANDARD
TZOFFSETFROM:+0000
TZOFFSETTO:+0000
TZNAME:UTC
DTSTART:20190101T000000
END:STANDARD
END:VTIMEZONE
BEGIN:VEVENT
DTSTART;VALUE=DATE:20190328
DTEND;VALUE=DATE:20190330
DTSTAMP:20260421T163543
CREATED:20190311T091826Z
LAST-MODIFIED:20190311T091826Z
UID:27955-1553731200-1553903999@superfounders.org
SUMMARY:Mobile Marketing Innovation Days - Vienna
DESCRIPTION:The Mobile Marketing Innovation Days on March 28-29\, 2019 at Studio 44 are considered to be DIE’s “Mobile” specialist conference in Austria\, which will again focus on international speakers\, top-class networking and all mobile trends in 2019. \nHow do companies most effectively reach their customers on their mobile device? How is AI revolutionizing our world? How does Blockchain change mobile payment technologies? How much is cloud computing changing the world of work? Are the Internet of Things\, Connected Cars and Smart Cities our future? Do not miss the # 1 Mobile Conference in Austria with all the trends of Mobile Marketing! \nHigh Potential Topics 2019\n\n360° Marketing | Artificial Intelligence | Assistance | Augmented Reality | Big Data | Chatbots | Connected Cars | Cyber Security | E-Mobility | Growth Hacking | Influencer Marketing | Internet of Things | Location Based Services | Media | NFC | Mobile Payment | Mobile Advertising | Shopping | Smart Cities | Social Media | Total connectivity
URL:http://superfounders.org/events/mobile-marketing-innovation-days-vienna/
LOCATION:Studio 44\, Rennweg 44\, Vienna\, Austria
CATEGORIES:Conference
ATTACH;FMTTYPE=image/jpeg:http://superfounders.org/wp-content/uploads/2019/03/MMID-Mobile-Marketing-Innovation-Days-Wien-2019-FB.jpg
END:VEVENT
END:VCALENDAR