BEGIN:VCALENDAR
VERSION:2.0
PRODID:-//Superfounders - ECPv5.2.0//NONSGML v1.0//EN
CALSCALE:GREGORIAN
METHOD:PUBLISH
X-WR-CALNAME:Superfounders
X-ORIGINAL-URL:http://superfounders.org
X-WR-CALDESC:Events for Superfounders
BEGIN:VTIMEZONE
TZID:UTC
BEGIN:STANDARD
TZOFFSETFROM:+0000
TZOFFSETTO:+0000
TZNAME:UTC
DTSTART:20180101T000000
END:STANDARD
END:VTIMEZONE
BEGIN:VEVENT
DTSTART;VALUE=DATE:20180628
DTEND;VALUE=DATE:20180629
DTSTAMP:20260421T154047
CREATED:20180625T100013Z
LAST-MODIFIED:20180625T102128Z
UID:26769-1530144000-1530230399@superfounders.org
SUMMARY:MITEF GREECE STARTUP COMPETITION Award Ceremony and Award Ceremony
DESCRIPTION:MITEF Greece Startup Competition 2018 to be held on 28 June 2018 by MIT Enterprise Forum Greece in cooperation with the NCSR DEMOKRITOS. \nO competition MITEF Greece Startup Competition held in Greece for four to a row in order to act as an “accelerator” for the acceleration in the growth of Greek startups\, active in technology. Through the competition\, participants further develop their business skills\, interconnect with the local and international network and seek broad recognition beyond the Greek border. \nΑΓΩ (AGO) \nAgile Agriculture Technologies \nAJM Med-i-caps \nDeepMed-I \neNVy Softworks \nIFA Academy \nIngredio \nInnate Repair \nPegneon \nQuantimetrica \nThe event will be welcomed by Nicolas Negroponte \, Co-Founder and Director\, for 20 years from the date of its foundation\, MIT Media Lab . Mr. Negroponte\, through his extensive experience in research\, finance and business\, will refer to international trends and the emergence of innovative technology opportunities for the business ecosystem of Greece. \nIn addition\, during the event\, talks will be held by Michalis Tzanes \, Technology Entrepreneur\, on the topic “How the Greek Startup Can Be Established in the US” and Marios Chrysolouris \, Chief Executive Officer of FreshStrips \, who will report on his participation in last year’s contest and especially the subsequent development of the company after its emergence as a winner in 2017. \nParticipation in the MITEF Greece Startup Competition is free of charge but your registration is required. For entries\, please follow the link below: Finals & Awards Ceremony. \nFor more information\, interested parties can visit the website www.mitefgreece.org and social media of MITEF Greece.
URL:http://superfounders.org/events/mitef-greece-startup-competition-award-ceremony-and-award-ceremony/
CATEGORIES:Conference
ATTACH;FMTTYPE=image/jpeg:http://superfounders.org/wp-content/uploads/2018/06/mitef_893928643.jpg
END:VEVENT
END:VCALENDAR