BEGIN:VCALENDAR
VERSION:2.0
PRODID:-//Superfounders - ECPv5.2.0//NONSGML v1.0//EN
CALSCALE:GREGORIAN
METHOD:PUBLISH
X-WR-CALNAME:Superfounders
X-ORIGINAL-URL:http://superfounders.org
X-WR-CALDESC:Events for Superfounders
BEGIN:VTIMEZONE
TZID:UTC
BEGIN:STANDARD
TZOFFSETFROM:+0000
TZOFFSETTO:+0000
TZNAME:UTC
DTSTART:20170101T000000
END:STANDARD
END:VTIMEZONE
BEGIN:VEVENT
DTSTART;VALUE=DATE:20170825
DTEND;VALUE=DATE:20170826
DTSTAMP:20260421T205020
CREATED:20161212T131311Z
LAST-MODIFIED:20161212T131311Z
UID:23453-1503619200-1503705599@superfounders.org
SUMMARY:MITEF Greece Startup Competition 2017
DESCRIPTION:The MIT Enterprise Forum (MITEF) Greece Startup Competition is a business skills accelerating competition in which Greek technology startups compete for prizes and international brand recognition. If you have an exciting new product or service\, participating in MITEF Greece Startup Competition will give you access to the practical knowledge\, mentorship\, and resources to take your venture to the next level. \nCompetition winners are the best of the best in Greece\, and will receive global recognition through the MIT Enterprise Forum Global\, a global network devoted to enabling early-stage entrepreneurs to transform ideas into world-changing companies. \n Applications deadline is on December 20\, 2016.
URL:http://superfounders.org/events/mitef-greece-startup-competition-2017/
ATTACH;FMTTYPE=image/png:http://superfounders.org/wp-content/uploads/2016/12/competition-logo.png
END:VEVENT
END:VCALENDAR