BEGIN:VCALENDAR
VERSION:2.0
PRODID:-//Superfounders - ECPv5.2.0//NONSGML v1.0//EN
CALSCALE:GREGORIAN
METHOD:PUBLISH
X-WR-CALNAME:Superfounders
X-ORIGINAL-URL:http://superfounders.org
X-WR-CALDESC:Events for Superfounders
BEGIN:VTIMEZONE
TZID:UTC
BEGIN:STANDARD
TZOFFSETFROM:+0000
TZOFFSETTO:+0000
TZNAME:UTC
DTSTART:20170101T000000
END:STANDARD
END:VTIMEZONE
BEGIN:VEVENT
DTSTART;VALUE=DATE:20170511
DTEND;VALUE=DATE:20170514
DTSTAMP:20260421T172153
CREATED:20170322T102748Z
LAST-MODIFIED:20170322T102748Z
UID:24139-1494460800-1494719999@superfounders.org
SUMMARY:Leap Summit - ZAGREB\, CROATIA
DESCRIPTION:Where Changemakers Leap Into Action\n\n\n\nLEAP Summit 2017 is a global 3 day conference\, which will gather more than 2\,000 young entrepreneurs\, students\, young professionals\, NGO leaders and change-makers who are leaders in their respective communities. The main focus of the conference is on themes connected to innovation\, IT and modern technologies\, entrepreneurship\, career development and life-changing stories. LEAP stands for Learn\, Engage\, Act\, and Progress. The Summit is a perfect combination of formal and non-formal program. Formal program consists of series of talks\, panel sessions\, workshops and interactive discussions. Non-formal program brings to participants rich networking program and a lot of interesting interactive sessions. LEAP Summit brings people from all over the world at one place to learn together in order to solve most pressing challenges of our time.
URL:http://superfounders.org/events/leap-summit-zagreb-croatia/
LOCATION:Studentski Centar u Zagrebu\,  Savska cesta 25\, Zagreb\, Croatia (Local Name: Hrvatska)
ATTACH;FMTTYPE=image/jpeg:http://superfounders.org/wp-content/uploads/2017/03/16864289_806765606142337_3501688983259789057_n.jpg
END:VEVENT
END:VCALENDAR