BEGIN:VCALENDAR
VERSION:2.0
PRODID:-//Superfounders - ECPv5.2.0//NONSGML v1.0//EN
CALSCALE:GREGORIAN
METHOD:PUBLISH
X-WR-CALNAME:Superfounders
X-ORIGINAL-URL:http://superfounders.org
X-WR-CALDESC:Events for Superfounders
BEGIN:VTIMEZONE
TZID:UTC
BEGIN:STANDARD
TZOFFSETFROM:+0000
TZOFFSETTO:+0000
TZNAME:UTC
DTSTART:20200101T000000
END:STANDARD
END:VTIMEZONE
BEGIN:VEVENT
DTSTART;VALUE=DATE:20200326
DTEND;VALUE=DATE:20200328
DTSTAMP:20260420T181137
CREATED:20191219T132240Z
LAST-MODIFIED:20191219T132240Z
UID:28757-1585180800-1585353599@superfounders.org
SUMMARY:Leap Summit 2020 - Zagreb\, Croatia
DESCRIPTION:LEAP Summit is the place where changemakers LEAP Into Action. LEAP Summit gathers more than 3\,000 participants from 40+ countries who are leaders in their respective communities. The focus of the conference is on multidisciplinary themes connected to innovation\, entrepreneurship\, digital\, European Union\, modern trends\, new technologies\, and career development. LEAP brings people from all over the world at one place to learn together in order to solve the most pressing challenges of our time. Are you ready for the LEAP?
URL:http://superfounders.org/events/leap-summit-2020-zagreb-croatia/
LOCATION:Cinestar Branimir Centar\, Ul. kneza Branimira 29\, Zagreb\, 10000\, Croatia (Local Name: Hrvatska)
CATEGORIES:Conference
ATTACH;FMTTYPE=image/jpeg:http://superfounders.org/wp-content/uploads/2019/12/leapsummit.jpg
END:VEVENT
END:VCALENDAR