BEGIN:VCALENDAR
VERSION:2.0
PRODID:-//Superfounders - ECPv5.2.0//NONSGML v1.0//EN
CALSCALE:GREGORIAN
METHOD:PUBLISH
X-WR-CALNAME:Superfounders
X-ORIGINAL-URL:http://superfounders.org
X-WR-CALDESC:Events for Superfounders
BEGIN:VTIMEZONE
TZID:UTC
BEGIN:STANDARD
TZOFFSETFROM:+0000
TZOFFSETTO:+0000
TZNAME:UTC
DTSTART:20170101T000000
END:STANDARD
END:VTIMEZONE
BEGIN:VEVENT
DTSTART;TZID=UTC:20170403T170000
DTEND;TZID=UTC:20170403T210000
DTSTAMP:20260422T133456
CREATED:20170221T132812Z
LAST-MODIFIED:20170221T132812Z
UID:23751-1491238800-1491253200@superfounders.org
SUMMARY:Ladies of new business Zagreb
DESCRIPTION:Technology sector is still mostly directed towards men. Why is that and how to attract more women into the industry? How is this to be developerica worldwide developers (and an opposite)? How to stay motivated in the corporate environment and with all that play the role of parents?
URL:http://superfounders.org/events/ladies-of-new-business-zagreb/
LOCATION:Hub 385\, Zagreb\, Croatia (Local Name: Hrvatska)
CATEGORIES:Workshop
ATTACH;FMTTYPE=image/jpeg:http://superfounders.org/wp-content/uploads/2017/02/ladies-1-600x360.jpg
END:VEVENT
END:VCALENDAR