BEGIN:VCALENDAR
VERSION:2.0
PRODID:-//Superfounders - ECPv5.2.0//NONSGML v1.0//EN
CALSCALE:GREGORIAN
METHOD:PUBLISH
X-WR-CALNAME:Superfounders
X-ORIGINAL-URL:http://superfounders.org
X-WR-CALDESC:Events for Superfounders
BEGIN:VTIMEZONE
TZID:UTC
BEGIN:STANDARD
TZOFFSETFROM:+0000
TZOFFSETTO:+0000
TZNAME:UTC
DTSTART:20180101T000000
END:STANDARD
END:VTIMEZONE
BEGIN:VEVENT
DTSTART;TZID=UTC:20180320T170000
DTEND;TZID=UTC:20180320T210000
DTSTAMP:20260421T183514
CREATED:20180309T142038Z
LAST-MODIFIED:20180309T144632Z
UID:26242-1521565200-1521579600@superfounders.org
SUMMARY:Ladies of New Business - Belgrade
DESCRIPTION:How to find an influencer that best reflects your brand and product? What to expect from him\, ie. her? Has the collaboration of brands with influencers become almost inevitable? The answers to these questions will be looked at at the first Ladies of New Business Conference in 2018\, which will be held on March 20th at the Belgrade ICT Hub (Kralja Milana 2) starting at 18:00. \n17:30 Registration\n18:00 Introductory address\nSandra Vojnović (member of IO UniCredit Bank)\n18:10 How I Started Itself I Can Do It To Me\nIvana Radovanović\n18:40 How to use influenza marketing to leverage your business in any field\nOuti Maria Pietilanaho (Fragrance by Me)\n18:55 What are you wearing in the bag?\nAna Babic (Škrabac)\n19:15 Cofee break by Doncafé\n19:30 Panel: How can brands and influents achieve better co-operation?\nNataša Jovanović (UniCredit Bank)\, Đorđe Jovanović (L’Oreal)\, Dina Rudić (Executive Group)\, Iva Čuljak (moderator)\n20:15 Get to know: Inspiring Girls Serbia\nVukosava Crnjanski\n20:25 Good and bad practices in co-operation with branded influenza\nAna Jankovic aka Ana2cats\n20:45 Networking & drinks
URL:http://superfounders.org/events/ladies-new-business-belgrade/
LOCATION:ICTHub Serbia\,  Veljka Dugoševića 54 street. Building A5\, second floor\, Belgrade\, Serbia
CATEGORIES:Conference
ATTACH;FMTTYPE=image/png:http://superfounders.org/wp-content/uploads/2018/03/ladies_najava.png
END:VEVENT
END:VCALENDAR