BEGIN:VCALENDAR
VERSION:2.0
PRODID:-//Superfounders - ECPv5.2.0//NONSGML v1.0//EN
CALSCALE:GREGORIAN
METHOD:PUBLISH
X-WR-CALNAME:Superfounders
X-ORIGINAL-URL:http://superfounders.org
X-WR-CALDESC:Events for Superfounders
BEGIN:VTIMEZONE
TZID:UTC
BEGIN:STANDARD
TZOFFSETFROM:+0000
TZOFFSETTO:+0000
TZNAME:UTC
DTSTART:20170101T000000
END:STANDARD
END:VTIMEZONE
BEGIN:VEVENT
DTSTART;VALUE=DATE:20170901
DTEND;VALUE=DATE:20170904
DTSTAMP:20260423T135749
CREATED:20170814T085628Z
LAST-MODIFIED:20170814T085847Z
UID:25427-1504224000-1504483199@superfounders.org
SUMMARY:KulenDayz Osijek
DESCRIPTION:KulenDayz: one of a kind conference organized by the IT community\nfirst weekend in September! \nJoin us in Osijek and meet cool people from IT\, learn something new\, enhance your skills with real-life projects\, workflows and more. \nOur style is different; this is a community conference so we are trying to keep talks out of standard conference rooms and speakers out of suits and skirts. With a lot of chalk and talk sessions\, networking and open sessions it’s easy for everyone to make this into a useful experience. \nConcept is simple: 3 conference days\, trainings\, 6 tracks with 8 sessions\, and finally a team building event on sunday to sum it all up. \nTracks are based on popular IT groups: Developers\, Database guys\, ITPros\, Web developers\, game developers and Project managers. All sessions are chosen to meet this year hot themes.
URL:http://superfounders.org/events/kulendayz-conference-osijek/
LOCATION:Pampas\, HR-31000\, Osijek\, Croatia (Local Name: Hrvatska)
CATEGORIES:Conference
ATTACH;FMTTYPE=image/jpeg:http://superfounders.org/wp-content/uploads/2017/08/20429842_1869685536415364_7975390855060671895_n.jpg
END:VEVENT
END:VCALENDAR