BEGIN:VCALENDAR
VERSION:2.0
PRODID:-//Superfounders - ECPv5.2.0//NONSGML v1.0//EN
CALSCALE:GREGORIAN
METHOD:PUBLISH
X-WR-CALNAME:Superfounders
X-ORIGINAL-URL:http://superfounders.org
X-WR-CALDESC:Events for Superfounders
BEGIN:VTIMEZONE
TZID:UTC
BEGIN:STANDARD
TZOFFSETFROM:+0000
TZOFFSETTO:+0000
TZNAME:UTC
DTSTART:20170101T000000
END:STANDARD
END:VTIMEZONE
BEGIN:VEVENT
DTSTART;VALUE=DATE:20171027
DTEND;VALUE=DATE:20171029
DTSTAMP:20260421T215517
CREATED:20161012T101633Z
LAST-MODIFIED:20171024T192145Z
UID:22026-1509062400-1509235199@superfounders.org
SUMMARY:KosICT 2017 - Prishtina
DESCRIPTION:KosICT started 6 years ago as a regional conference with the aim to bring the global IT trending topic to the Balkans. But with over 50 speakers during the last 4 years and more than 1\,000 participants\, the expansion was inevitable. \nThat’s why the 6th edition will be a reinvention of KosICT by going Global\, expanding the topics lineup\, introducing the SEE Outsourcing & Startups Fair\, an eSports Championship and KosICT Nights\, so this year KosICT is bringing you a Tech Festival.
URL:http://superfounders.org/events/kosict-2016-going-global/
LOCATION:rexhep mala 28\, Prishtina\, Kosovo
CATEGORIES:Conference
ATTACH;FMTTYPE=image/png:http://superfounders.org/wp-content/uploads/2016/10/kosict2017.png
END:VEVENT
END:VCALENDAR