BEGIN:VCALENDAR
VERSION:2.0
PRODID:-//Superfounders - ECPv5.2.0//NONSGML v1.0//EN
CALSCALE:GREGORIAN
METHOD:PUBLISH
X-WR-CALNAME:Superfounders
X-ORIGINAL-URL:http://superfounders.org
X-WR-CALDESC:Events for Superfounders
BEGIN:VTIMEZONE
TZID:UTC
BEGIN:STANDARD
TZOFFSETFROM:+0000
TZOFFSETTO:+0000
TZNAME:UTC
DTSTART:20170101T000000
END:STANDARD
END:VTIMEZONE
BEGIN:VEVENT
DTSTART;TZID=UTC:20170617T100000
DTEND;TZID=UTC:20170617T150000
DTSTAMP:20260421T221829
CREATED:20170616T104153Z
LAST-MODIFIED:20170616T104153Z
UID:25216-1497693600-1497711600@superfounders.org
SUMMARY:IoT Fest Zagreb
DESCRIPTION:The IoT Fest Zagreb\, which will be on 17 June 2017 in Technology Park Zagreb\, is a one-day\, FREE of charge\, event organized by the community of IoT creators supported by hub:raum Kraków and Hrvatski Telekom. \nIt brings together IoT companies and startups\, universities and students\, hardware geeks and every IoT creator to share knowledge\, experience and visions about technological and business opportunities of the Internet of Things in Croatia.
URL:http://superfounders.org/events/iot-fest-zagreb/
LOCATION:Technology Park Zagreb\, Av. Dubrovnik 15\, Zagreb Fair\, Paviljon 12\, 1st floor\, \, Zagreb\, Croatia (Local Name: Hrvatska)
ATTACH;FMTTYPE=image/jpeg:http://superfounders.org/wp-content/uploads/2017/06/IoT-Fest-Zagreb.jpg
END:VEVENT
END:VCALENDAR