BEGIN:VCALENDAR
VERSION:2.0
PRODID:-//Superfounders - ECPv5.2.0//NONSGML v1.0//EN
CALSCALE:GREGORIAN
METHOD:PUBLISH
X-WR-CALNAME:Superfounders
X-ORIGINAL-URL:http://superfounders.org
X-WR-CALDESC:Events for Superfounders
BEGIN:VTIMEZONE
TZID:Europe/Athens
BEGIN:DAYLIGHT
TZOFFSETFROM:+0200
TZOFFSETTO:+0300
TZNAME:EEST
DTSTART:20180325T010000
END:DAYLIGHT
BEGIN:STANDARD
TZOFFSETFROM:+0300
TZOFFSETTO:+0200
TZNAME:EET
DTSTART:20181028T010000
END:STANDARD
END:VTIMEZONE
BEGIN:VEVENT
DTSTART;TZID=Europe/Athens:20181208T100000
DTEND;TZID=Europe/Athens:20181208T130000
DTSTAMP:20260421T182445
CREATED:20181204T092640Z
LAST-MODIFIED:20181205T111309Z
UID:27335-1544263200-1544274000@superfounders.org
SUMMARY:Instagram Marketing Strategy New - Kalithea
DESCRIPTION:Instagram is the most powerful and trendy fun social media tool that allows us to reach hundreds of users per day. \nInstagram is the simplest and most effective digital promotion tool to connect your brand to new customers. It does not cost but a very small investment of time\, but it is done for a brand called Marketing\, ” huge customer return! ” \nIn this program you learn:\n\nInstagram\nMake Storytelling | Other strategic content development and other stories!\nWin direct and organic Followers and not Paid!\nApproach Micro-influencers and do a job!\nThe rest of it \nPractical issues Modules\n\nWelcome Pack by KEAK\nBuilding profiles for Rock On Instagram !\nContent Game Plan\nThe storytelling and emotion development\nStrategic Marketing & Tips ( Tactical Marketing )\nInstagram & Snapshot  | Hot & Hot Hot!\nStories \nCost\n€ 40\n€ 30 Members of KEKAK \nNecessary pre-registration. \nRapporteurs:\nGerasimos Tzamarelos\, Ph.D. & Katerina Ratid
URL:http://superfounders.org/events/instagram-marketing-strategy-new-kalithea/
LOCATION:KEAK\, El. Venizelou 104\, Kalithea\, Greece
CATEGORIES:Workshop
ATTACH;FMTTYPE=image/jpeg:http://superfounders.org/wp-content/uploads/2018/12/keakinstagram.jpeg
END:VEVENT
END:VCALENDAR