BEGIN:VCALENDAR
VERSION:2.0
PRODID:-//Superfounders - ECPv5.2.0//NONSGML v1.0//EN
CALSCALE:GREGORIAN
METHOD:PUBLISH
X-WR-CALNAME:Superfounders
X-ORIGINAL-URL:http://superfounders.org
X-WR-CALDESC:Events for Superfounders
BEGIN:VTIMEZONE
TZID:UTC
BEGIN:STANDARD
TZOFFSETFROM:+0000
TZOFFSETTO:+0000
TZNAME:UTC
DTSTART:20170101T000000
END:STANDARD
END:VTIMEZONE
BEGIN:VEVENT
DTSTART;TZID=UTC:20171118T170000
DTEND;TZID=UTC:20171118T190000
DTSTAMP:20260421T112556
CREATED:20171115T101158Z
LAST-MODIFIED:20171115T102127Z
UID:25874-1511024400-1511031600@superfounders.org
SUMMARY:Initiative to Support Innovation - Patras
DESCRIPTION:“Initiatives to Support Innovation” is the title of the two-hour debate organized by business incubator o Orange Grove Patras and o collaborative space POS4 work\, under the 20 th Development Forum Saturday November 18 at 17: 00-19: 00 at Astir Hotel in Patras.\nParticipants will have the opportunity to discuss with representatives of established and start-ups\, investment entities\, and business support structures for mechanisms to create and support innovative businesses.\n“Innovation is not an abstract concept. Behind this are people with ideas and will for hard work. At Orange Grove Patras\, we consider our mission to highlight these people\, encourage entrepreneurship and\, more practically\, contribute to job creation and economic growth in the region. We want this event to contribute in this direction\, ” says a co-founder of Orange Grove Patras\, Yannis Kanellopoulos.\n“Within just one year we have helped create more than ten jobs and have seen youth groups evolve into corporations. The development of partnerships at all levels is a one-way street in order to create a dynamic business ecosystem so that we not only stop the flow of young people abroad but also be able to attract scientists and companies in Greece with know-how and experiences again \, says the founder of POS4work\, Nassos Koskinas – Electrical Engineer\, Msc.\n“Innovation Support Initiatives”: The Experience of Entrepreneurs\, Investors and Entrepreneurship Support Structures in the 20th Development Forum \n“Innovation Support Initiatives”: The Experience of Entrepreneurs\, Investors and Entrepreneurship Support Structures in the 20th Development Forum\nFacebook 2 Facebook Messenger Google+ Twitter LinkedIn Gmail\nDate: 15/11 Views: 56\n“Initiatives to Support Innovation” is the title of the two-hour debate organized by business incubator o Orange Grove Patras and o collaborative space POS4 work\, under the 20 th Development Forum Saturday November 18 at 17: 00-19: 00 at Astir Hotel in Patras.\nParticipants will have the opportunity to discuss with representatives of established and start-ups\, investment entities\, and business support structures for mechanisms to create and support innovative businesses.\n“Innovation is not an abstract concept. Behind this are people with ideas and will for hard work. At Orange Grove Patras\, we consider our mission to highlight these people\, encourage entrepreneurship and\, more practically\, contribute to job creation and economic growth in the region. We want this event to contribute in this direction\, ” says a co-founder of Orange Grove Patras\, Yannis Kanellopoulos.\n“Within just one year we have helped create more than ten jobs and have seen youth groups evolve into corporations. The development of partnerships at all levels is a one-way street in order to create a dynamic business ecosystem so that we not only stop the flow of young people abroad but also be able to attract scientists and companies in Greece with know-how and experiences again \, says the founder of POS4work\, Nassos Koskinas – Electrical Engineer\, Msc.\nThe discussion panel will be framed by the following distinguished guests: \n1. Alexandra Holi\, Founder & Executive Director\, Metavallon\n2. Giannis Papidis\, IT Digitalization & Innovation Director\, OTE / COSMOTE\n3. Natasa Apostolides\, Sr Political Advisor\, Embassy of the Kingdom of the Netherlands\n4. Dimitris Karageorgopoulos & Christos Xouris\, Co-Founders Gaia Robotics\, Orange Grove Patras Startup Team\n5. Nikos Kostopoulos\, CTO PaperGo \, POS4work Startup Team\n6. Eleni Stefanidou\, Communications Manager & Dimitris Kouletsis\, Development Officer\, The People’s Trust
URL:http://superfounders.org/events/initiatives-support-innovation/
LOCATION:Astir Hotel\, Agiou Andreou 16\, Patras\, 262 21\, Greece
CATEGORIES:meetup
ATTACH;FMTTYPE=image/jpeg:http://superfounders.org/wp-content/uploads/2017/11/Invitation_Startupgr_648960153.jpg
END:VEVENT
END:VCALENDAR