BEGIN:VCALENDAR
VERSION:2.0
PRODID:-//Superfounders - ECPv5.2.0//NONSGML v1.0//EN
CALSCALE:GREGORIAN
METHOD:PUBLISH
X-WR-CALNAME:Superfounders
X-ORIGINAL-URL:http://superfounders.org
X-WR-CALDESC:Events for Superfounders
BEGIN:VTIMEZONE
TZID:UTC
BEGIN:STANDARD
TZOFFSETFROM:+0000
TZOFFSETTO:+0000
TZNAME:UTC
DTSTART:20170101T000000
END:STANDARD
END:VTIMEZONE
BEGIN:VEVENT
DTSTART;VALUE=DATE:20171004
DTEND;VALUE=DATE:20171006
DTSTAMP:20260421T111459
CREATED:20170829T132002Z
LAST-MODIFIED:20170829T132306Z
UID:25464-1507075200-1507247999@superfounders.org
SUMMARY:IMWorld- (Internet & Mobile World) Bucharest
DESCRIPTION:Internet & Mobile World builds an important framework in Romanian industry for learning\,\nnetworking and new business generation that reunites a B2B audience in an environment designed for sharing digital\, mobile or IT software & infrastructure solutions for their businesses. \nPrepare your business for the digital invasion. Join the sixth IMWorld edition on 4-5 October at Romexpo\, Bucharest.\nIMWorld 2017 means 8\,500+ business visitors\, 130+ exhibiting companies\, 140+ international & local speakers on 6 dedicated stages:\n• Main Stage\n• Dev Stage\n• SMBs & Enterprise Solutions Stage\n• Marketing & Innovation Stage\n• Digital & E-commerce Stage\n• Security Stage \nMain expo areas include: Infrastructure & Information Security\, Business Software & Cloud Solutions\, Digital & E-Commerce and Devices & IoT. Discover speakers\, exhibitors\, topics and secure your ticket for this year’s event on www.imworld.ro.
URL:http://superfounders.org/events/imworld-bucharest/
LOCATION:Romexpo Central Hall – Entrance B\, 65-67 Marasti Blvd\, Bucharest\, Romania
CATEGORIES:Conference
ATTACH;FMTTYPE=image/jpeg:http://superfounders.org/wp-content/uploads/2017/08/20525538_1454429867981161_4688074912856826009_n.jpg
END:VEVENT
END:VCALENDAR