BEGIN:VCALENDAR
VERSION:2.0
PRODID:-//Superfounders - ECPv5.2.0//NONSGML v1.0//EN
CALSCALE:GREGORIAN
METHOD:PUBLISH
X-WR-CALNAME:Superfounders
X-ORIGINAL-URL:http://superfounders.org
X-WR-CALDESC:Events for Superfounders
BEGIN:VTIMEZONE
TZID:UTC
BEGIN:STANDARD
TZOFFSETFROM:+0000
TZOFFSETTO:+0000
TZNAME:UTC
DTSTART:20160101T000000
END:STANDARD
END:VTIMEZONE
BEGIN:VEVENT
DTSTART;VALUE=DATE:20161027
DTEND;VALUE=DATE:20161028
DTSTAMP:20260421T210142
CREATED:20161014T092159Z
LAST-MODIFIED:20161014T093006Z
UID:22163-1477526400-1477612799@superfounders.org
SUMMARY:ICT Gold Award 2016 Conference
DESCRIPTION:ICT Gold Awards ’16 conference awards the best ICT implementations of the year  promotes new and innovative technologies and puts the focus  on best ICT solutions in Croatia and the region by having an emphasis on the client  implementation. \nThe conference will bring together more than 200 C+ level managers from Croatia in one location. All of them with their organizations directly or non-directly decide about the growth of innovative technology. \nICT Gold Award 2016 Conference will be held at Esplanade hotel in Zagreb on 27th of October. \n 
URL:http://superfounders.org/events/ict-gold-award-2016-conference/
LOCATION:Hotel Regent Esplanade\, MIhanovićeva ulica 1\, Zagreb\, Croatia (Local Name: Hrvatska)
CATEGORIES:Conference
ATTACH;FMTTYPE=image/jpeg:http://superfounders.org/wp-content/uploads/2016/10/ict.jpg
END:VEVENT
END:VCALENDAR