BEGIN:VCALENDAR
VERSION:2.0
PRODID:-//Superfounders - ECPv5.2.0//NONSGML v1.0//EN
CALSCALE:GREGORIAN
METHOD:PUBLISH
X-WR-CALNAME:Superfounders
X-ORIGINAL-URL:http://superfounders.org
X-WR-CALDESC:Events for Superfounders
BEGIN:VTIMEZONE
TZID:UTC
BEGIN:STANDARD
TZOFFSETFROM:+0000
TZOFFSETTO:+0000
TZNAME:UTC
DTSTART:20190101T000000
END:STANDARD
END:VTIMEZONE
BEGIN:VEVENT
DTSTART;VALUE=DATE:20191030
DTEND;VALUE=DATE:20191101
DTSTAMP:20260421T144552
CREATED:20190814T143330Z
LAST-MODIFIED:20191028T163154Z
UID:28446-1572393600-1572566399@superfounders.org
SUMMARY:How to Web Conference Bucharest 2019
DESCRIPTION:Founders and innovators\, product owners\, growth hackers\, investors\, tech enthusiasts or just doers\, this one is for you!  \nImmerse yourself into the Best Startups and Innovation Conference from Central and Eastern Europe!🚀 \nGet into the Better Products + Faster Growth mindset and have a Hands-on Learning Experience on carefully designed sessions and workshops on:\n✔️Product Positioning\n✔️Product/Market Fit & MVP\n✔️Jobs To Be Done & Team Culture\n✔️Product Experiments\n✔️Product Metrics & Data Insights\n✔️OKRs\n✔️B2B Sales\n✔️Customer Success \nMeet and connect with like-minded people\, get tips and tricks from practical and interactive workshops\, discover the startup way\, connect with potential investors and mentors. \nYou will engage with some of the biggest names in the tech industry that we can’t wait to share them with you! \nWe are starting the countdown⏳ by releasing Very Early Bird Tickets for our die-hard fans. Offer available for a limited period of time.\nGet ready and book your tickets now
URL:http://superfounders.org/events/how-to-web-conference-bucharest-2019/
LOCATION:Face Convention Center\, Piata Presei Libere 3-5\, Bucharest\, Romania
CATEGORIES:Conference
ATTACH;FMTTYPE=image/jpeg:http://superfounders.org/wp-content/uploads/2019/08/67641573_2774339515928815_4797685203587825664_n.jpg
END:VEVENT
END:VCALENDAR