BEGIN:VCALENDAR
VERSION:2.0
PRODID:-//Superfounders - ECPv5.2.0//NONSGML v1.0//EN
CALSCALE:GREGORIAN
METHOD:PUBLISH
X-WR-CALNAME:Superfounders
X-ORIGINAL-URL:http://superfounders.org
X-WR-CALDESC:Events for Superfounders
BEGIN:VTIMEZONE
TZID:UTC
BEGIN:STANDARD
TZOFFSETFROM:+0000
TZOFFSETTO:+0000
TZNAME:UTC
DTSTART:20170101T000000
END:STANDARD
END:VTIMEZONE
BEGIN:VEVENT
DTSTART;VALUE=DATE:20170406
DTEND;VALUE=DATE:20170407
DTSTAMP:20260422T081118
CREATED:20170315T114144Z
LAST-MODIFIED:20170315T114532Z
UID:24004-1491436800-1491523199@superfounders.org
SUMMARY:Hit digital Conference Zagreb
DESCRIPTION:Google AdWords / Google Analytics Conference 2017 \nAfter last year’s successful premiere this year\, followed by ” continue ” conference HiItDigital. In Zagreb will gather the biggest experts in Google Analytics and Google AdWords in the region. \nThe second Google AdWords / Analytics Conference will be held on April 6\, 2017 at the Congress Centre Forum in Zagreb\, starting at 9: 00h. \nThe conference will be opened by a lecturer from Google Jos Meijerhof expert in Google Analytics that works as Product Lead for Google products for measurement and attribution. Domestic professional force led by Zorin Radovančević who will speak about the role of Google Analytics in the process of business decision-making\, and the colors will be the escapee and Miroslav Varga and Ines Strmotić. Varga will explain what are the possibilities of Google AdWords advertising outside the area\, while Strmotić show how Google AdWords “extract” information about competing advertisers.\nThe conference will teach and Robert Petkovic\, web analyst\, whose theme will be imbued with the psychology and the study of consumer behavior using Google Analytics.\nMaja Bilic who also comes from Google will speak about the importance of optimizing digital campaigns to maximize return on investment. The theoretical part of the course will complete Ognjen Bagatin from Polyclinic Bagatin to show what takes place Google AdWords in the business of their company and how is Google AdWords improve their business. \nLike last year\, this year the conference will be humanitarian. All donations go to the association Red noses\, partners of the conference. The registration fee is HRK 300.00\, and all payments go directly to the account of the association Red noses. \nIf you are a digital camera HitItDigital the conference that simply can not miss. If you last year participated in the conference\, hit it again! Applications have already started\, visit www.hitit.digital\, fill out the form and secure your place at the conference.
URL:http://superfounders.org/events/hit-digital-zagreb/
LOCATION:Kongresni centar Forum\, Radnička cesta 50\, Zagreb\, Croatia (Local Name: Hrvatska)
CATEGORIES:Conference
ATTACH;FMTTYPE=image/jpeg:http://superfounders.org/wp-content/uploads/2017/03/17155895_1852640204762098_6268265992834900924_n.jpg
END:VEVENT
END:VCALENDAR