BEGIN:VCALENDAR
VERSION:2.0
PRODID:-//Superfounders - ECPv5.2.0//NONSGML v1.0//EN
CALSCALE:GREGORIAN
METHOD:PUBLISH
X-WR-CALNAME:Superfounders
X-ORIGINAL-URL:http://superfounders.org
X-WR-CALDESC:Events for Superfounders
BEGIN:VTIMEZONE
TZID:UTC
BEGIN:STANDARD
TZOFFSETFROM:+0000
TZOFFSETTO:+0000
TZNAME:UTC
DTSTART:20170101T000000
END:STANDARD
END:VTIMEZONE
BEGIN:VEVENT
DTSTART;TZID=UTC:20171114T183000
DTEND;TZID=UTC:20171114T210000
DTSTAMP:20260421T110140
CREATED:20171110T100205Z
LAST-MODIFIED:20171110T101036Z
UID:25859-1510684200-1510693200@superfounders.org
SUMMARY:HELLENIC Growth Makers Night - Athens
DESCRIPTION:Heineken Growth Makers Nights Innovative Entrepreneurship Evenings Return to Orange Grove on Tuesday\, November 14\, 2017\, at 18:30 for an event dedicated to innovation and startup entrepreneurship! Successful entrepreneurs and investors are discussing the new financial tools of innovative entrepreneurship and the opportunities and prospects created for the startup ecosystem in Greece. \nHeineken Growth Makers series is back to Orange Grove on Tuesday\, November 14\, 2017\, at 6:30 pm for an event that celebrates innovation and entrepreneurship! Accomplished entrepreneurs\, investors and spokespersons for VCs discuss the funding opportunities for Greek startups and the so-called “windows” of Equifund\, the new funding platform.
URL:http://superfounders.org/events/hellenic-growth-makers-night/
LOCATION:Orange Grove\,  Leof. Vasileos Konstantinou 5\, Athens\, Greece
CATEGORIES:Hackathon
ATTACH;FMTTYPE=image/jpeg:http://superfounders.org/wp-content/uploads/2017/11/orangegrove.jpg
END:VEVENT
END:VCALENDAR