BEGIN:VCALENDAR
VERSION:2.0
PRODID:-//Superfounders - ECPv5.2.0//NONSGML v1.0//EN
CALSCALE:GREGORIAN
METHOD:PUBLISH
X-WR-CALNAME:Superfounders
X-ORIGINAL-URL:http://superfounders.org
X-WR-CALDESC:Events for Superfounders
BEGIN:VTIMEZONE
TZID:UTC
BEGIN:STANDARD
TZOFFSETFROM:+0000
TZOFFSETTO:+0000
TZNAME:UTC
DTSTART:20170101T000000
END:STANDARD
END:VTIMEZONE
BEGIN:VEVENT
DTSTART;TZID=UTC:20170319T163000
DTEND;TZID=UTC:20170320T170000
DTSTAMP:20260421T132455
CREATED:20170421T151005Z
LAST-MODIFIED:20170421T151123Z
UID:24436-1489941000-1490029200@superfounders.org
SUMMARY:Hacklanje Zagreb
DESCRIPTION:HACKLANJE is organized by MojPosao\, the largest Croatian job search portal and one of the 20 most visited websites in Croatia. If you know and love to program\, go to HACKLANES! Your ideas are what we are looking for and we know to reward!
URL:http://superfounders.org/events/hacklanje/
LOCATION:Hub 385\, Zagreb\, Croatia (Local Name: Hrvatska)
CATEGORIES:Workshop
ATTACH;FMTTYPE=image/jpeg:http://superfounders.org/wp-content/uploads/2017/04/hacklanje.jpg
END:VEVENT
END:VCALENDAR