BEGIN:VCALENDAR
VERSION:2.0
PRODID:-//Superfounders - ECPv5.2.0//NONSGML v1.0//EN
CALSCALE:GREGORIAN
METHOD:PUBLISH
X-WR-CALNAME:Superfounders
X-ORIGINAL-URL:http://superfounders.org
X-WR-CALDESC:Events for Superfounders
BEGIN:VTIMEZONE
TZID:UTC
BEGIN:STANDARD
TZOFFSETFROM:+0000
TZOFFSETTO:+0000
TZNAME:UTC
DTSTART:20180101T000000
END:STANDARD
END:VTIMEZONE
BEGIN:VEVENT
DTSTART;TZID=UTC:20180422T130000
DTEND;TZID=UTC:20180422T170000
DTSTAMP:20260422T000827
CREATED:20180306T084206Z
LAST-MODIFIED:20180306T084831Z
UID:26199-1524402000-1524416400@superfounders.org
SUMMARY:Get in the Ring Hub387 - Sarajevo
DESCRIPTION:Get in the Ring HUB387 is a selection event for the Global Startup Competition of the Get in the Ring Foundation. This yearly pitch competition challenges you to show what you’ve got in an actual ring. Through 1-on-1 battles\, you will compete for awards\, a place at the Global Meetup and the attention of potential fans. \nProgram\n\nParticipating in Get in the Ring is not only about winning the competition. Therefore\, we have a great program: \n\nGet Ready\nPITCH TRAINING \nPractice your pitch together with peers and get feedback from experts during these training sessions. \n\n\nConnect\nMATCHUPS\nParticipate in one-on-one pre-matched speed dating sessions with investors and business leaders and discover business opportunities together. \nCompete\nSELECTION\nDuring the selection round\, you will pitch for a spot on the main stage of the selection event. You will have to pitch in front of an experienced jury and convince them why you should proceed to the next round. \nCompete\nBATTLES\nThe highlight of every Get in the Ring event. During the award show\, the best startups will battle on the main stage\, show what they’ve got and competed for the attention of potential fans and a ticket to the global final.
URL:http://superfounders.org/events/get-ring-hub387-sarajevo/
ATTACH;FMTTYPE=image/jpeg:http://superfounders.org/wp-content/uploads/2018/03/GetintheRingHub387.jpg
END:VEVENT
END:VCALENDAR