BEGIN:VCALENDAR
VERSION:2.0
PRODID:-//Superfounders - ECPv5.2.0//NONSGML v1.0//EN
CALSCALE:GREGORIAN
METHOD:PUBLISH
X-WR-CALNAME:Superfounders
X-ORIGINAL-URL:http://superfounders.org
X-WR-CALDESC:Events for Superfounders
BEGIN:VTIMEZONE
TZID:UTC
BEGIN:STANDARD
TZOFFSETFROM:+0000
TZOFFSETTO:+0000
TZNAME:UTC
DTSTART:20160101T000000
END:STANDARD
END:VTIMEZONE
BEGIN:VEVENT
DTSTART;VALUE=DATE:20161012
DTEND;VALUE=DATE:20161013
DTSTAMP:20260426T013651
CREATED:20161012T080801Z
LAST-MODIFIED:20161012T081000Z
UID:22001-1476230400-1476316799@superfounders.org
SUMMARY:From Corporate Job to Entrepreneurship
DESCRIPTION:Every day millions of people go to jobs they don’t enjoy\, but few do something about it. At the event\, you can hear the stories\, tips\, and best practices of those who left their jobs to pursue their own startup company. Listen to the experiences of people just like you that have made the transition\, and discuss any questions or concerns that you have. How do you know if you have a good idea? What are the first steps in an entrepreneurial journey? Join us for a fun evening!
URL:http://superfounders.org/events/from-corporate-job-to-entrepreneurship/
LOCATION:betahaus Sofia\, Krum Popov str. 56-58\, Sofia\, 1421\, Bulgaria
CATEGORIES:Worskop
ATTACH;FMTTYPE=image/jpeg:http://superfounders.org/wp-content/uploads/2016/10/corporate.jpg
END:VEVENT
END:VCALENDAR